BEGIN:VCALENDAR
VERSION:2.0
PRODID:-//日本消化器内視鏡学会 - ECPv6.10.1.1//NONSGML v1.0//EN
CALSCALE:GREGORIAN
METHOD:PUBLISH
X-WR-CALNAME:日本消化器内視鏡学会
X-ORIGINAL-URL:https://www.jges.net
X-WR-CALDESC:日本消化器内視鏡学会 のイベント
REFRESH-INTERVAL;VALUE=DURATION:PT1H
X-Robots-Tag:noindex
X-PUBLISHED-TTL:PT1H
BEGIN:VTIMEZONE
TZID:Asia/Tokyo
BEGIN:STANDARD
TZOFFSETFROM:+0900
TZOFFSETTO:+0900
TZNAME:JST
DTSTART:20140101T000000
END:STANDARD
END:VTIMEZONE
BEGIN:VEVENT
DTSTART;VALUE=DATE:20140722
DTEND;VALUE=DATE:20140901
DTSTAMP:20260420T122419
CREATED:20170201T051447Z
LAST-MODIFIED:20170201T051447Z
UID:7404-1405987200-1409529599@www.jges.net
SUMMARY:平成26年度　J-CASE（NOTES研究会）研究助成応募要項
DESCRIPTION:J-CASE（NOTES研究会）では本邦のNOTES研究および新しい内視鏡治療の開発を促進するために、平成21年より研究助成を行っております。本年度も下記の要項により研究を募集することになりましたので、ご案内申し上げます。なお、この制度は賛助会員の皆様のご協力のもとに設立されています。 \nJ-CASE代表世話人：\n北野正剛（大分大学）\n 田尻久雄（東京慈恵医大消化器・肝臓内科/内視鏡科） \n\n応募課題\n NOTESおよび新しい内視鏡治療に関する基礎および臨床研究\n応募資格\n\nJ-CASE会員。\n国内の大学・研究所・病院・その他公的私的研究団体において、NOTESおよび内視鏡治療について研究している個人またはグループ。\n助成の重複を避けるため、すでに助成を受けているテーマの応募はご遠慮下さい。また、応募テーマに対する他の助成金が決定した場合は速やかにご連絡願います。\n\n\n研究助成金\n 1研究あたり100万円　2研究（総額200万円）\n応募期間\n 平成26年7月22日から8月31日\n採否の決定と奨励金の交付\n 9月中旬までに、応募者宛に通知し、J-CASE（NOTES研究会）ホームページに掲載します。\n選考方法\n J-CASEの研究助成委員会で選考の上、常任世話人・世話人会の承認を得て決定します。ただし多くの施設の方に助成を受けていただくために選考の際、以下のような点を考慮いたします。 \n\n多施設共同研究を除く同一施設への3年連続の助成はご遠慮いただく。\n同一施設（診療科や部署が違っていても）からの応募に対しては年に1研究に限る。\n\n\n研究成果の報告\n 研究応募時に申請した研究期間終了後、所定の研究成果報告書にまとめ、事務局に提出して下さい。研究内容はJ-CASE（NOTES 研究会）および海外のNOTES関連の主な学会と論文投稿が求められます。発表の際には本研究会からの助成を受けた研究であることを書き添えて下さい。\n報告書の提出\n 助成金交付後1年以内に研究の経過または成果を記載した報告書を提出して下さい。また、会計報告書も提出して下さい。\n申請書類\n 研究会のホームページ（http://www.notes-med.jp/）よりダウンロードして下さい。\nお問い合わせおよび提出先\n J-CASE事務局\n 〒879-5593\n 大分県由布市挟間町医大ヶ丘1-1\n 大分大学　消化器・小児外科\n 白下英史\n TEL：097-586-5843\n FAX：097-549-6039\n MAIL：hshiro@oita-u.ac.jp
URL:https://www.jges.net/event/2017-7404
CATEGORIES:他学会等
END:VEVENT
BEGIN:VEVENT
DTSTART;VALUE=DATE:20140802
DTEND;VALUE=DATE:20140803
DTSTAMP:20260420T122419
CREATED:20170201T045431Z
LAST-MODIFIED:20170201T045431Z
UID:7373-1406937600-1407023999@www.jges.net
SUMMARY:IPNBシングルトピックカンファレンスのご案内
DESCRIPTION:シングルトピックカンファレンス\n 「胆管内乳頭状腫瘍とはなにか」\nWHO2010にIPNBが明記され、各学会でもIPNBの言葉が認知され、ディスカションされています。しかし、それらは単一の病態として総意が得られた訳ではなく、一つの概念枠として提示されているのが現状であります。実際に胆道学会学術集会2013年のIPNBに関するワークショップでも、各施設でIPNBの捉え方が異なり、一定の見解が得られておりません。 \nそこで、今回日本胆道学会主催でシングルトピックカンファレンス「胆管内乳頭状腫瘍（IPNB）とは何か」を開催し、もう一度、各施設がどのような病変をIPNBと定義しているかを議論する場にしたいと考えております。 \n皆様の御参加をお待ちしております。\n   \n理事長　乾　和郎（日本胆道学会）\n 委員長　窪田　敬一（日本胆道学会学術委員会） \n会期：2014年8月2日（土）　13時30分～ \n会場：\n エーザイ本館5階会議室　 地図（PDF 110KB）\n 東京都文京区小石川4-6-10 （TEL：03-3817-3700） \n日本胆道学会ホームページ：http://www.tando.gr.jp/news/007.html \n内容：\n 総合司会\n 　宮崎　　勝、中沼　安二、窪田　敬一 \n ～病理医の観点から～\n 　中沼　安二（静岡県立静岡がんセンター　病理診断科）\n 　近藤　福雄（帝京大学医学部病理学講座）\n 　柳澤　昭夫（京都府立医科大学計量診断病理学）\n 　全　　　陽（神戸大学大学院病理診断学病理ネットワーク学部門） \n ～外科医の観点から～\n 　大塚　将之（千葉大学大学院医学研究院　臓器制御外科学）\n 　樋口　亮太（東京女子医科大学　消化器外科学）\n 　梛野　正人（名古屋大学大学院医学系研究科　腫瘍外科学）\n 　海野　倫明（東北大学大学院医学系研究科　消化器外科学）\n 　上坂　克彦（静岡県立静岡がんセンター　肝・胆・膵外科）\n 　七島　篤志（長崎大学大学院　腫瘍外科学）\n 　遠藤　　格（横浜市立大学　消化器・腫瘍外科学）\n 　伊佐地秀司（三重大学大学院医学系研究科　肝胆膵・移植外科）\n 　窪田　敬一（獨協医科大学第二外科） \n ～内科医の観点から～\n 　中井　陽介（東京大学医学系研究科　消化器内科）\n 　露口　利夫（千葉大学大学院医学研究院　消化器・腎臓内科学）\n 　石井健太郎（東京医科大学　消化器内科）\n 　真口　宏介（手稲渓仁会病院　消化器病センター）\n 　佐々木民人（広島大学大学院　消化器・代謝内科学） \n ～放射線科医の観点から～\n 　小坂　一斗（金沢大学大学院医薬保健学総合研究科　経血管診療学） \n 総合討論
URL:https://www.jges.net/event/2017-7373
LOCATION:エーザイ本館\, 小石川4-6-10\, 文京区\, 東京都\, 1120002
CATEGORIES:他学会等
END:VEVENT
BEGIN:VEVENT
DTSTART;VALUE=DATE:20140808
DTEND;VALUE=DATE:20140810
DTSTAMP:20260420T122419
CREATED:20170201T050015Z
LAST-MODIFIED:20170201T050015Z
UID:7397-1407456000-1407628799@www.jges.net
SUMMARY:第23回　消化器疾患病態治療研究会
DESCRIPTION:当番会長：加藤　元嗣（北海道大学病院　光学医療診療部　診療教授） \n会期：\n平成26年8月8日（金）18：30～20：00 サテライトセミナー（予定）\n 8月9日（土）9：00～15：30 （予定） \n会場：\n8月8日　札幌アスペンホテル\n 　　　　　〒060-0808札幌市北区北8条西4-5、\n 　　　　　TEL：011-700-2111\n 8月9日　北海道大学学術交流会館\n 　　　　　〒060-0811札幌市北区北8条西5丁目、\n 　　　　　TEL：011-706-2141 \n参加費：\n医師　3\,000円\n 初期研修医、大学院生、薬剤師、看護師、その他コメディカル　1\,000円 \n＜プログラム＞\n8月8日（金）\n サテライトセミナー：エーザイ株式会社共催\n 　司会：加藤元嗣（第23回　当番会長）\n 　　　　草野元康（群馬大学附属病院光学医療診療部診療教授）\n 　演者：荒川哲男（大阪市立大学消化器器官制御内科学教授）\n 　　　　Francis KL Chan\n 　　　　（Professor of Medicine and Therapeutics Head\, Division of Gastroenterology\n 　　　　and Hepatology\, The Chinese University of Hong Kong） \n8月9日（土）\n シンポジウム：内視鏡治療の最前線\n 若手医師のセッション\n 一般演題\n ランチョンセミナー：武田薬品工業株式会社共催\n 「The Kyoto global consensus meeting for H. pylori gastritis」（仮）\n 　司会：浅香正博（北海道大学大学院医学研究科がん予防内科学講座 特任教授）\n 　演者：菅野健太郎（自治医科大学消化器内科学部門 主任教授） \n事務局：\n第23回消化器疾患病態治療研究会事務局\n 北海道大学病院　光学医療診療部内\n 間部　克裕\n E-mail: shokakibyotai@huhp.hokudai.ac.jp
URL:https://www.jges.net/event/2017-7397
LOCATION:札幌アスペンホテル・北海道大学学術交流会館
CATEGORIES:他学会等
END:VEVENT
END:VCALENDAR