BEGIN:VCALENDAR
VERSION:2.0
PRODID:-//日本消化器内視鏡学会 - ECPv6.10.1.1//NONSGML v1.0//EN
CALSCALE:GREGORIAN
METHOD:PUBLISH
X-WR-CALNAME:日本消化器内視鏡学会
X-ORIGINAL-URL:https://www.jges.net
X-WR-CALDESC:日本消化器内視鏡学会 のイベント
REFRESH-INTERVAL;VALUE=DURATION:PT1H
X-Robots-Tag:noindex
X-PUBLISHED-TTL:PT1H
BEGIN:VTIMEZONE
TZID:Asia/Tokyo
BEGIN:STANDARD
TZOFFSETFROM:+0900
TZOFFSETTO:+0900
TZNAME:JST
DTSTART:20140101T000000
END:STANDARD
END:VTIMEZONE
BEGIN:VEVENT
DTSTART;VALUE=DATE:20140906
DTEND;VALUE=DATE:20140908
DTSTAMP:20260420T110058
CREATED:20170110T073828Z
LAST-MODIFIED:20170110T073828Z
UID:2342-1409961600-1410134399@www.jges.net
SUMMARY:第109回　日本消化器内視鏡学会北海道支部例会
DESCRIPTION:第109回　日本消化器内視鏡学会北海道支部例会のご案内\nこの度の支部例会は、第115回日本消化器病学会北海道支部例会（会長　北海道大学大学院医学研究科　内科学講座消化器内科学分野・坂本　直哉教授）との合同開催になります。 \n会長： \n　近藤　仁（斗南病院　消化器内科　診療部長） \n会期： \n　2014年（平成26年）9月6日（土）～9月7日（日） \n会場： \n　札幌コンベンションセンター \n　〒003-0006　札幌市白石区東札幌6条1丁目1-1 \n北海道支部例会HP： \n　http://www.c-linkage.co.jp/jsge115-jges109-hokkaido/ \n  \n演題募集期間： \n　終了致しました。 \n  \n特別講演 \n　「消化器領域におけるIgG4 関連疾患」\n 　演者：岡崎和一（関西医科大学内科学第三講座） \n 　シンポジウム（公募）\n 　　「消化器疾患の診断治療指標の進歩」 \n 　ビデオシンポジウム（公募）\n 　　「消化器腫瘍の診断治療の工夫」\n 　　①「消化管腫瘍の診断治療における工夫」\n 　　②「肝胆膵の診断・治療における工夫」 \n 一般演題（公募） \n  \n優秀演題表彰 \n　【優秀演題賞】 \n　　発表演題から各分野別（上部消化管、下部消化管、肝胆膵）に1 題を選定し、優秀演題として支部が表彰し、副賞として３万円を贈呈いたします。 \n　【専修医（後期研修医）優秀演題賞】 \n　　卒後３～５年専修医（後期研修医）による発表演題から最優秀演題賞1 題と優秀演題賞１題を選定いたします。\n 　　最優秀演題に対しては本部が表彰し、本学会総会への参加を招待いたします。\n 　　優秀演題に対しては支部が表彰し、副賞として３万円を贈呈いたします。 \n　【研修医（初期研修医）優秀演題賞】 \n　　卒後１～２年研修医（初期研修医）による発表演題から最優秀演題賞1 題と優秀演題賞１題を選定いたします。\n 　　最優秀演題に対しては本部が表彰し、本学会総会への参加を招待いたします。\n 　　優秀演題に対しては支部が表彰し、副賞として３万円を贈呈いたします。 \n  \n連絡先： \n　第109回日本消化器内視鏡学会北海道支部例会運営事務局\n 　株式会社コンベンションリンケージ北海道本部内\n 　〒060-0003　札幌市中央区北3条西3丁目1札幌大同生命ビル10階\n 　TEL：011-272-2151/FAX：011-272-2152\n 　担当：丹野　沙耶香、雄鹿　遼\n 　E-mail：jsge-jges-hokkaido@c-linkage.co.jp
URL:https://www.jges.net/event/2017-2342
LOCATION:札幌コンベンションセンター\, 白石区東札幌6条1丁目1-1\, 札幌市\, 北海道\, 003-0006　\, Japan
CATEGORIES:北海道支部,支部例会
END:VEVENT
BEGIN:VEVENT
DTSTART;VALUE=DATE:20140906
DTEND;VALUE=DATE:20140907
DTSTAMP:20260420T110058
CREATED:20170112T005342Z
LAST-MODIFIED:20170112T005342Z
UID:2616-1409961600-1410047999@www.jges.net
SUMMARY:第57回　日本消化器内視鏡学会東海支部例会
DESCRIPTION:第57回　日本消化器内視鏡学会東海支部例会のご案内\n第57回日本消化器内視鏡学会東海支部例会を下記の通り開催いたしますので、会員の皆様の多数のご参加をお願い方々ご案内申し上げます。 \n会長： \n　春日井　邦夫（愛知医科大学　消化器内科） \n会期： \n　平成26年9月6日（土） \n会場： \n　名古屋国際会議場2号館\n 　〒456-0036　名古屋市熱田区熱田西町1-1\n 　TEL：052-683-7711 \n演題募集： \n　終了致しました。 \n  \nプログラム \n　特別講演 \n\n『ニーズから生まれる病院発の医療機器（Clutch Cutter）の開発と臨床応用』\n 講師：赤星　和也（麻生飯塚病院　消化器内科）\n 司会：乾　和郎（藤田保健衛生大学坂文種報德會病院　消化器内科）\n\n  \n　シンポジウム \n\n\n『消化器内視鏡診断の工夫とコツ』（公募） \n司会：大宮 直木（藤田保健衛生大学　消化管内科）\n 司会：小笠原 尚高（愛知医科大学　消化器内科）\n 　拡大観察や画像強調観察の普及により消化器内視鏡の診断能は飛躍的に向上している。しかし、所見の捉え方や診断精度に関しては報告者によりばらつきがあり、標準化されていない手技も存在している。本シンポジウムでは各施設で行っている内視鏡診断の精度を高めるための工夫やコツについて提示して頂き、現状の認識と知識の共有を計りたい。 \n\n\n  \n　ビデオワークショップ \n\n『消化器内視鏡治療の新展開』（公募）\n 司会：荒木 寛司（岐阜大学医学部附属病院　光学医療診療部）\n 司会：林　香月（名古屋市立大学大学院医学研究科　消化器・代謝内科学）\n 　近年、消化管および胆膵内視鏡治療の適応となる疾患や範囲は拡大され、一般病院においても高度な内視鏡治療が施行されるまでに普及しつつある。今回のワークショップでは、各施設で取り組んでいるさまざまな内視鏡治療の新しい取り組みなどをビデオで提示頂き、内視鏡技術の相互の向上に務めたい。\n  \n\n　一般演題（公募） \n　ランチョンセミナー (２社予定) \n  \n　若手研究者優秀演題奨励賞 \n  \n問い合わせ先： \n\n第57回東海地方会運営事務局\n 株式会社セントラルコンベンションサービス\n 担当：山田麻里恵、井上藤則\n 〒460-0008 名古屋市中区栄3-19-28\n TEL：052-269-3181　FAX：052-269-3252\n E-mail：jges57@ccs-net.co.jp
URL:https://www.jges.net/event/2017-2616
LOCATION:名古屋国際会議場\, 名古屋市熱田区熱田西町1番1号\, 名古屋市\, 〒456-0036\, Japan
CATEGORIES:支部例会,東海支部
END:VEVENT
BEGIN:VEVENT
DTSTART;TZID=Asia/Tokyo:20140906T100000
DTEND;TZID=Asia/Tokyo:20140906T160000
DTSTAMP:20260420T110058
CREATED:20170201T051808Z
LAST-MODIFIED:20170201T051808Z
UID:7412-1409997600-1410019200@www.jges.net
SUMMARY:Endo-Skill update 2014
DESCRIPTION:本研究会ではESD のみならずNBI、AFI、拡大内視鏡等を駆使した最先端の内視鏡診断に関するLiveDemonstrationを行い、最新の診断手技、そしてESDのコツとポイントをお示しいたします。 \n代表世話人：小山恒男（佐久医療センター内視鏡内科） \n世話人：\n小野裕之（静岡県立静岡がんセンター 内視鏡科）\n矢作直久（慶應義塾大学医学部 腫瘍センター）\n山本博徳（自治医科大学附属病院 光学医療センター）\n豊永高史（神戸大学医学部附属病院 光学医療診療部） \n会期：平成26年９月６日（土）10：00～16：00 \n会場：\nベルサール半蔵門\nhttp://www.bellesalle.co.jp/bs_hanzomon/ \n会費：\n事前登録10\,000 円（看護師，技師5\,000 円）\n当日　　12\,000 円（看護師，技師6\,000 円）\nHome page http://endo-skill-update.com/ からお申し込み下さい \nランチョンセミナー\n田尻久雄（東京慈恵会医科大学） \nGuest Faculty\n郷田憲一（東京慈恵会医科大学）\n小澤俊文（佐藤病院）\n池松弘朗（国立がん研究センター東病院）
URL:https://www.jges.net/event/endo-skill-update-2014
LOCATION:ベルサール半蔵門\, 麹町1-6-4 不動産半蔵門駅前ビル2F\, 千代田区\, 東京都\, Japan
CATEGORIES:他学会等
END:VEVENT
END:VCALENDAR