BEGIN:VCALENDAR
VERSION:2.0
PRODID:-//日本消化器内視鏡学会 - ECPv6.10.1.1//NONSGML v1.0//EN
CALSCALE:GREGORIAN
METHOD:PUBLISH
X-ORIGINAL-URL:https://www.jges.net
X-WR-CALDESC:日本消化器内視鏡学会 のイベント
REFRESH-INTERVAL;VALUE=DURATION:PT1H
X-Robots-Tag:noindex
X-PUBLISHED-TTL:PT1H
BEGIN:VTIMEZONE
TZID:Asia/Tokyo
BEGIN:STANDARD
TZOFFSETFROM:+0900
TZOFFSETTO:+0900
TZNAME:JST
DTSTART:20150101T000000
END:STANDARD
END:VTIMEZONE
BEGIN:VEVENT
DTSTART;VALUE=DATE:20150206
DTEND;VALUE=DATE:20150207
DTSTAMP:20260420T034120
CREATED:20170110T095032Z
LAST-MODIFIED:20170110T095032Z
UID:2385-1423180800-1423267199@www.jges.net
SUMMARY:第154 回　日本消化器内視鏡学会東北支部例会
DESCRIPTION:第154 回　日本消化器内視鏡学会東北支部例会のご案内\n会長： \n　山野　泰穂（秋田赤十字病院　消化器病センター） \n会期： \n　平成27年2月6日（金） \n会場：　 \n　仙台市仙台国際センター\n　〒980-0855　仙台市青葉区青葉山\n　TEL：022-265-2211 \n  \nホームページ： \n　http://www.jges-touhoku.com/ \n  \n演題募集要領：　 \n　終了致しました。\n　詳細は東北支部例会ホームページをご参照下さい。 \n  \nプログラム（予定）： \n\n一般演題（公募） \n第10回プレナリーセッション（公募） \n\nテーマ「めざせ！消化器内視鏡専門医」\n第1部：研修医（卒後2年目まで）\n第2部：専修医・専攻医（卒後3-5年目）\n\n \nランチョンセミナー \n\n講　師：有村　佳昭（札幌医科大学 消化器・免疫・リウマチ内科学講座）\n演題名：「日本人のIBD 感受性遺伝子」\n\n \n特別講演 \n\n講　師：小原　勝敏（福島県立医科大学附属病院　内視鏡診療部）\n演題名：「胃静脈瘤治療の極意」\n内視鏡ライブデモンストレーション\n\n \nコメディカル・学生の方々の参加もお待ちしております。 \n\n  \nお問い合わせ（事務局）： \n\n〒010-1495　秋田県秋田市上北手猿田字苗代沢222-1\n秋田赤十字病院　消化器病センター内\n第154 回日本消化器内視鏡学会東北支部例会事務局　松下弘雄\nTEL：018-829-5000　　FAX：018-829-5115\nE-mail：yamano@archosp-1998.com
URL:https://www.jges.net/event/2017-2385
LOCATION:仙台国際センター
CATEGORIES:支部例会,東北支部
END:VEVENT
BEGIN:VEVENT
DTSTART;TZID=Asia/Tokyo:20150208T100000
DTEND;TZID=Asia/Tokyo:20150208T160000
DTSTAMP:20260420T034120
CREATED:20220216T063451Z
LAST-MODIFIED:20220216T063451Z
UID:54036-1423389600-1423411200@www.jges.net
SUMMARY:第37回　重点卒後教育セミナー
DESCRIPTION:会長\n福田　眞作　（弘前大学大学院医学研究科　消化器血液内科学講座） \n会期\n平成27年2月8日（日） \n会場\n東京ビッグサイト　レセプションホールA+Ｂ \n定員\n1\,000名 \n受講料\n10\,000円 \n受講証\n従来実施していた受講証の発行は廃止いたします。\n当日、受付にてお渡しする参加証に付帯している「出席証明カード」をプログラム終了後にご提出いただきます。\n提出された受講者の方は後日（7日から10日程度）、会員ログインページより受講記録の確認が可能です。 \nお問い合わせ先\n日本消化器内視鏡学会　第37回重点卒後教育セミナー事務局\n〒113-0033　東京都文京区本郷3-35-3本郷UCビル4階\n株式会社コンベンションアカデミア内　担当：　丹沢、佐藤\nTEL 03-5844-6700　　FAX 03-3815-2028　MAIL juuten@coac.co.jp \nプログラム\n\n\n\n時間\n演題名\n講師氏名 ・所属\n司会者氏名 ・所属\n\n\n10：00\n開会挨拶\n日本消化器内視鏡学会　第37回重点卒後教育セミナー会長 弘前大学大学院医学研究科　消化器血液内科学講座　 福田眞作日本消化器内視鏡学会　卒後教育委員会　担当理事　杏林大学医学部　第三内科　 高橋信一\n\n\n \n【第１部：食道疾患の診断と治療】\n\n\n10：10\nBarrett食道癌の診断\n新潟県立吉田病院　内科\n八木一芳　\n佐久医療センター　内視鏡内科\n小山恒男\n\n\n食道癌の診断とESD\n仙台オープン病院　消化器内科\n平澤　大\n\n\n食道・胃静脈瘤に対する内視鏡治療\n福島県立医科大学附属病院　内視鏡診療部\n引地拓人　\n\n\n12：25\n休憩\n\n\n12：35\nランチョンセミナー\n腫瘍と腺癌の形態学的特徴から病態を考察する\n弘前大学大学院医学研究科　病理生命科学講座\n鬼島　宏\n杏林大学医学部　第三内科\n高橋信一\n\n\n13：25\n休憩\n\n\n \n【第２部：胃疾患の診断と治療】\n\n\n13：40\nH. pylori 除菌前後の内視鏡像\n北海道大学病院　光学医療診療部\n加藤元嗣\n東京大学医学部附属病院　光学医療診療部\n藤城光弘\n\n\n胃癌の診断とESD\n神戸大学医学部附属病院　消化器内科\n森田圭紀\n\n\nLECS\nがん研有明病院　消化器センター外科\n比企直樹\n\n\n15：55\n閉講式・受講証授与\n日本消化器内視鏡学会　卒後教育委員会委員長 広島大学病院　内視鏡診療科\n田中信治
URL:https://www.jges.net/event/2022-54036
LOCATION:東京ビッグサイト\, 有明3-11-1\, 江東区\, 東京都\, 135-0063\, 日本
CATEGORIES:重点卒後教育セミナー
END:VEVENT
END:VCALENDAR