BEGIN:VCALENDAR
VERSION:2.0
PRODID:-//日本消化器内視鏡学会 - ECPv6.10.1.1//NONSGML v1.0//EN
CALSCALE:GREGORIAN
METHOD:PUBLISH
X-ORIGINAL-URL:https://www.jges.net
X-WR-CALDESC:日本消化器内視鏡学会 のイベント
REFRESH-INTERVAL;VALUE=DURATION:PT1H
X-Robots-Tag:noindex
X-PUBLISHED-TTL:PT1H
BEGIN:VTIMEZONE
TZID:Asia/Tokyo
BEGIN:STANDARD
TZOFFSETFROM:+0900
TZOFFSETTO:+0900
TZNAME:JST
DTSTART:20150101T000000
END:STANDARD
END:VTIMEZONE
BEGIN:VEVENT
DTSTART;VALUE=DATE:20150307
DTEND;VALUE=DATE:20150309
DTSTAMP:20260420T020131
CREATED:20170110T082234Z
LAST-MODIFIED:20170110T082234Z
UID:2354-1425686400-1425859199@www.jges.net
SUMMARY:第110回　日本消化器内視鏡学会北海道支部例会
DESCRIPTION:第110回　日本消化器内視鏡学会北海道支部例会のご案内\nこの度の支部例会は、第116回日本消化器病学会北海道支部例会（会長　手稲渓仁会病院 消化器病センター・真口　宏介　先生）との合同開催になります。 \n会長： \n　加藤　淳二（札幌医科大学医学部 腫瘍血液内科学講座　教授） \n会期： \n　2015年（平成27年）3月7日（土）～3月8日（日） \n会場： \n　札幌コンベンションセンター\n 　〒003-0006　札幌市白石区東札幌6条1丁目1-1 \n北海道支部例会HP： \n　http://www.c-linkage.co.jp/jsge116-jges110-hokkaido/ \n  \n演題募集： \n　終了致しました。 \n  \n　特別講演 \n　　テーマ：「消化器病学会の歴史と将来展望」（予定）\n 　　講演者：下瀬川　徹（東北大学 消化器内科 教授） \n 　合同シンポジウム（公募・一部指定）\n 　　「消化器癌の早期診断－現状と課題」\n 　合同パネルディスカッション（公募・一部指定）\n 　　「総胆管結石治療のStrategy－内視鏡と外科治療の接点－」 \n 　一般演題（公募） \n  \nお問い合わせ： \n　第110回日本消化器内視鏡学会北海道支部例会運営事務局\n 　株式会社コンベンションリンケージ北海道本部内\n 　〒060-0003　札幌市中央区北3条西3丁目1札幌大同生命ビル10階\n 　TEL：011-272-2151/FAX：011-272-2152\n 　担当：丹野　沙耶香、雄鹿　遼\n 　E-mail：jsge-jges-hokkaido@c-linkage.co.jp
URL:https://www.jges.net/event/2017-2354
LOCATION:札幌コンベンションセンター\, 白石区東札幌6条1丁目1-1\, 札幌市\, 北海道\, 003-0006　\, Japan
CATEGORIES:北海道支部,支部例会
END:VEVENT
END:VCALENDAR