BEGIN:VCALENDAR
VERSION:2.0
PRODID:-//日本消化器内視鏡学会 - ECPv6.10.1.1//NONSGML v1.0//EN
CALSCALE:GREGORIAN
METHOD:PUBLISH
X-ORIGINAL-URL:https://www.jges.net
X-WR-CALDESC:日本消化器内視鏡学会 のイベント
REFRESH-INTERVAL;VALUE=DURATION:PT1H
X-Robots-Tag:noindex
X-PUBLISHED-TTL:PT1H
BEGIN:VTIMEZONE
TZID:Asia/Tokyo
BEGIN:STANDARD
TZOFFSETFROM:+0900
TZOFFSETTO:+0900
TZNAME:JST
DTSTART:20110101T000000
END:STANDARD
END:VTIMEZONE
BEGIN:VEVENT
DTSTART;VALUE=DATE:20110817
DTEND;VALUE=DATE:20110820
DTSTAMP:20260423T083451
CREATED:20180814T022742Z
LAST-MODIFIED:20180814T022742Z
UID:14442-1313539200-1313798399@www.jges.net
SUMMARY:第81回　日本消化器内視鏡学会総会
DESCRIPTION:会長\n吉田　茂昭 \n会期\n2011/08/17-19 \n会場\n名古屋国際会議場
URL:https://www.jges.net/event/2018-14442
LOCATION:名古屋国際会議場\, 名古屋市熱田区熱田西町1番1号\, 名古屋市\, 〒456-0036\, Japan
CATEGORIES:総会
END:VEVENT
END:VCALENDAR