BEGIN:VCALENDAR
VERSION:2.0
PRODID:-//日本消化器内視鏡学会 - ECPv6.10.1.1//NONSGML v1.0//EN
CALSCALE:GREGORIAN
METHOD:PUBLISH
X-WR-CALNAME:日本消化器内視鏡学会
X-ORIGINAL-URL:https://www.jges.net
X-WR-CALDESC:日本消化器内視鏡学会 のイベント
REFRESH-INTERVAL;VALUE=DURATION:PT1H
X-Robots-Tag:noindex
X-PUBLISHED-TTL:PT1H
BEGIN:VTIMEZONE
TZID:Asia/Tokyo
BEGIN:STANDARD
TZOFFSETFROM:+0900
TZOFFSETTO:+0900
TZNAME:JST
DTSTART:20120101T000000
END:STANDARD
END:VTIMEZONE
BEGIN:VEVENT
DTSTART;VALUE=DATE:20120512
DTEND;VALUE=DATE:20120515
DTSTAMP:20260422T080108
CREATED:20180814T023701Z
LAST-MODIFIED:20180814T023701Z
UID:14451-1336780800-1337039999@www.jges.net
SUMMARY:第83回　日本消化器内視鏡学会総会
DESCRIPTION:会長\n小原　勝敏 \n会期\n2012/05/12-14 \n会場\nグランドプリンスホテル新高輪 国際館パミール
URL:https://www.jges.net/event/2018-14451
LOCATION:グランドプリンスホテル新高輪 国際館パミール\, 高輪3-13-1\, 港区\, 東京都\, 108-0074\, Japan
CATEGORIES:総会
END:VEVENT
END:VCALENDAR