BEGIN:VCALENDAR
VERSION:2.0
PRODID:-//日本消化器内視鏡学会 - ECPv6.10.1.1//NONSGML v1.0//EN
CALSCALE:GREGORIAN
METHOD:PUBLISH
X-ORIGINAL-URL:https://www.jges.net
X-WR-CALDESC:日本消化器内視鏡学会 のイベント
REFRESH-INTERVAL;VALUE=DURATION:PT1H
X-Robots-Tag:noindex
X-PUBLISHED-TTL:PT1H
BEGIN:VTIMEZONE
TZID:Asia/Tokyo
BEGIN:STANDARD
TZOFFSETFROM:+0900
TZOFFSETTO:+0900
TZNAME:JST
DTSTART:20120101T000000
END:STANDARD
END:VTIMEZONE
BEGIN:VEVENT
DTSTART;VALUE=DATE:20121010
DTEND;VALUE=DATE:20121014
DTSTAMP:20260422T002909
CREATED:20180814T024321Z
LAST-MODIFIED:20180814T024321Z
UID:14454-1349827200-1350172799@www.jges.net
SUMMARY:第84回　日本消化器内視鏡学会総会
DESCRIPTION:会長\n高橋 信一 \n会期\n2012/10/10-13 \n会場\n神戸国際展示場、ポートピアホテル、神戸国際会議場 \n詳細はこちら：http://www.jddw.jp/jddw2012/index.html
URL:https://www.jges.net/event/2018-14454
LOCATION:神戸国際展示場・ポートピアホテル・神戸国際会議場
CATEGORIES:総会
END:VEVENT
END:VCALENDAR