BEGIN:VCALENDAR
VERSION:2.0
PRODID:-//日本消化器内視鏡学会 - ECPv6.10.1.1//NONSGML v1.0//EN
CALSCALE:GREGORIAN
METHOD:PUBLISH
X-WR-CALNAME:日本消化器内視鏡学会
X-ORIGINAL-URL:https://www.jges.net
X-WR-CALDESC:日本消化器内視鏡学会 のイベント
REFRESH-INTERVAL;VALUE=DURATION:PT1H
X-Robots-Tag:noindex
X-PUBLISHED-TTL:PT1H
BEGIN:VTIMEZONE
TZID:Asia/Tokyo
BEGIN:STANDARD
TZOFFSETFROM:+0900
TZOFFSETTO:+0900
TZNAME:JST
DTSTART:20130101T000000
END:STANDARD
END:VTIMEZONE
BEGIN:VEVENT
DTSTART;TZID=Asia/Tokyo:20131208T100000
DTEND;TZID=Asia/Tokyo:20131208T150000
DTSTAMP:20260421T023118
CREATED:20170131T100518Z
LAST-MODIFIED:20170131T100518Z
UID:7291-1386496800-1386514800@www.jges.net
SUMMARY:第11回　内視鏡下肥満治療（胃内バルーン留置術）トレーニングコース
DESCRIPTION:内視鏡下肥満外科治療研究会主催で下記の要領にて内視鏡的胃内バルーン留置術のセミナーを開催いたします。 \nコースディレクター：北野 正剛（大分大学） \n会　期：平成25年12月8日（日）10：00～15：00　昼食あり \n会　場：\n大分大学医学部附属病院卒後臨床研修センター1階セミナー室\n 〒879-5593 大分県由布市挾間町医大ヶ丘1-1　TEL：097-586-5205\n http://www.med.oita-u.ac.jp/sotugo/ \n目　的：肥満治療全般の知識と内視鏡的胃内バルーン留置術の技術の習得  \n内　容：\n肥満症治療ガイドライン2006、肥満症診断基準2011と肥満に対する内科的治療\n 内視鏡的胃内バルーン留置術（肥満症治療における位置付け、ビデオを使ったテクニックの説明、留置後の患者のフォローアップ方法）  \n募集人員：15名（先着順、定員になり次第締め切らせていただきます。）  \n参加資格：日本消化器内視鏡学会　専門医  \n参加費：\n40\,000円（宿泊料金および交通費は含まれておりません。受講料のお支払い方法は申し込み確認後、別途ご案内いたします。）\n 参加申し込み方法：内視鏡下肥満外科治療研究会事務局（jwelto@oita-u.ac.jp）まで、11月18日（月）までにE-mailにてご連絡お願いいたします。  \n事務局：\n内視鏡下肥満外科治療研究会　幹事\n大分大学消化器・小児外科　太田 正之\n電話：097-586-5843　FAX：097-549-6039\nE-mail：jwelto@oita-u.ac.jp
URL:https://www.jges.net/event/2017-7291
LOCATION:大分大学医学部附属病院卒後臨床研修センター\, 挾間町医大ヶ丘1-1\, 由布市\, 大分県\, 8795593\, Japan
CATEGORIES:他学会等
END:VEVENT
END:VCALENDAR