BEGIN:VCALENDAR
VERSION:2.0
PRODID:-//日本消化器内視鏡学会 - ECPv6.10.1.1//NONSGML v1.0//EN
CALSCALE:GREGORIAN
METHOD:PUBLISH
X-WR-CALNAME:日本消化器内視鏡学会
X-ORIGINAL-URL:https://www.jges.net
X-WR-CALDESC:日本消化器内視鏡学会 のイベント
REFRESH-INTERVAL;VALUE=DURATION:PT1H
X-Robots-Tag:noindex
X-PUBLISHED-TTL:PT1H
BEGIN:VTIMEZONE
TZID:Asia/Tokyo
BEGIN:STANDARD
TZOFFSETFROM:+0900
TZOFFSETTO:+0900
TZNAME:JST
DTSTART:20130101T000000
END:STANDARD
END:VTIMEZONE
BEGIN:VEVENT
DTSTART;VALUE=DATE:20131214
DTEND;VALUE=DATE:20131215
DTSTAMP:20260421T023118
CREATED:20170111T084056Z
LAST-MODIFIED:20170111T084056Z
UID:2612-1386979200-1387065599@www.jges.net
SUMMARY:第56回　日本消化器内視鏡学会東海支部例会
DESCRIPTION:第56回　日本消化器内視鏡学会東海支部例会のご案内\n会長： \n　大原　弘隆（名古屋市立大学大学院医学研究科　地域医療教育学講座） \n会期： \n　平成25年12月14日（土） \n会場： \n　名古屋国際会議場2号館\n 　〒456-0036　名古屋市熱田区熱田西町1-1\n 　TEL：052-683-7711 \n  \nプログラム \n　特別講演 \n\n講師：芳野　純治（藤田保健衛生大学坂文種報德會病院 消化器内科）\n 司会：城　　卓志（名古屋市立大学大学院医学研究科　消化器・代謝内科学）\n\n  \n　シンポジウム１．『消化管疾患における内視鏡的診断・治療の工夫と進歩』（公募） \n\n司会：丹羽　康正（愛知県がんセンター中央病院　内視鏡部）\n 司会：堀木　紀行（三重大学医学部附属病院　光学医療診療部）\n 【司会の言葉】\n 消化管疾患の内視鏡画像の進歩は目覚ましく、画質の向上により効率的に早期の病変を拾い上げ、詳細な拡大観察によって病理像を推定できる正確な質的・量的診断が可能となった。また、ESDの普及もめざましく多くの施設で行われている。今回は、頭頸部から大腸領域まで幅広い領域での内視鏡診断や治療における工夫やUp-to-dateな技術に関する演題を期待する。\n\n  \n　シンポジウム２．『胆膵内視鏡における診断・治療の工夫と進歩』（公募） \n\n司会：安田　一朗（岐阜大学医学部附属病院　第一内科）\n 司会：中沢　貴宏（名古屋市立大学大学院医学研究科　消化器・代謝内科学）\n 【司会の言葉】\n 胆膵内視鏡は診断のみならず治療においても重要な役割を担ってきています。ERCP関連ではIDUS、胆道/膵管鏡、EST、膵管口切開術、各種ドレナージ、乳頭切除術などがあり、EUS関連では造影EUS、EUS-FNA、膵仮性嚢胞ドレナージ、胆道ドレナージ、腹腔神経叢ブロックなどが行われつつあります。\n 今回のシンポジウムではより正確に診断するための工夫や新たな診断法の確立、また治療成功率を高めるための工夫やより安全で有用な手技の進歩について論じてみたい。\n  \n\n　ランチョンセミナー①　共催：第一三共株式会社 \n\n司会：後藤　秀実（名古屋大学大学院医学系研究科　消化器内科学）\n 講師：入澤　篤志（福島県立医科大学会津医療センター　消化器内科）  \n\n　ランチョンセミナー②　共催：エーザイ株式会社 \n\n司会：春日井邦夫（愛知医科大学　消化器内科学）\n 講師：豊永　高史（神戸大学大学院医学研究科　消化器内科学）\n\n  \n　一般演題（公募） \n  \n演題応募： \n\n募集は終了致しました。\n\n  \n第56回東海地方会運営事務局： \n\n株式会社セントラルコンベンションサービス　\n 担当：山田麻里恵、井上藤則\n 〒460-0008 名古屋市中区栄3-19-28\n TEL：052-269-3181/FAX：052-269-3252\n E-mail：jges56@ccs-net.co.jp
URL:https://www.jges.net/event/2017-2612
LOCATION:名古屋国際会議場\, 名古屋市熱田区熱田西町1番1号\, 名古屋市\, 〒456-0036\, Japan
CATEGORIES:支部例会,東海支部
END:VEVENT
END:VCALENDAR