BEGIN:VCALENDAR
VERSION:2.0
PRODID:-//日本消化器内視鏡学会 - ECPv6.10.1.1//NONSGML v1.0//EN
CALSCALE:GREGORIAN
METHOD:PUBLISH
X-WR-CALNAME:日本消化器内視鏡学会
X-ORIGINAL-URL:https://www.jges.net
X-WR-CALDESC:日本消化器内視鏡学会 のイベント
REFRESH-INTERVAL;VALUE=DURATION:PT1H
X-Robots-Tag:noindex
X-PUBLISHED-TTL:PT1H
BEGIN:VTIMEZONE
TZID:Asia/Tokyo
BEGIN:STANDARD
TZOFFSETFROM:+0900
TZOFFSETTO:+0900
TZNAME:JST
DTSTART:20140101T000000
END:STANDARD
END:VTIMEZONE
BEGIN:VEVENT
DTSTART;VALUE=DATE:20140301
DTEND;VALUE=DATE:20140303
DTSTAMP:20260420T222739
CREATED:20170110T074032Z
LAST-MODIFIED:20170110T074032Z
UID:2346-1393632000-1393804799@www.jges.net
SUMMARY:第108回　日本消化器内視鏡学会北海道支部例会
DESCRIPTION:第108回　日本消化器内視鏡学会北海道支部例会のご案内\nこの度の支部例会は、第114回日本消化器病学会北海道支部例会（例会長　恵佑会札幌病院・細川正夫理事長）との合同開催になります。 \n会長： \n　篠村恭久（札幌医科大学医学部 消化器・免疫・リウマチ内科学講座 教授） \n会期： \n　2014年（平成26年）３月１日（土）～３月２日（日） \n会場： \n　札幌コンベンションセンター\n 　〒003-0006　札幌市白石区東札幌６条１丁目1-1　TEL：011-817-1010\n 　URL：http://www.c-linkage.co.jp/jsge114-jges108-hokkaido/ \n演題募集： \n　終了致しました \nプログラム： \n　特別講演\n 　「これからの内視鏡医療の動向－低侵襲内視鏡治療の発展と普及を目指して」\n 　 座長：細川　正夫（社会医療法人 恵佑会札幌病院）\n 　 演者：田尻　久雄（東京慈恵会医科大学 消化器・肝臓内科） \n 　合同シンポジウム（公募／一部指定）\n 　　「全身性疾患に伴う消化器疾患」 \n 　合同ワークショップ（公募）\n 　　「消化器疾患における診断　治療困難例への対処」 \n 　一般演題（公募） \n連絡先： \n　第108回日本消化器内視鏡学会北海道支部例会運営事務局\n 　株式会社コンベンションリンケージ北海道本部内\n 　〒060-0003　札幌市中央区北３条西３丁目１札幌大同生命ビル10階\n 　TEL：011-272-2151/FAX：011-272-2152\n 　担当：丹野　沙耶香、村山　彰\n 　E-mail：jsge-jges-hokkaido@c-linkage.co.jp
URL:https://www.jges.net/event/2017-2346
LOCATION:札幌コンベンションセンター\, 白石区東札幌6条1丁目1-1\, 札幌市\, 北海道\, 003-0006　\, Japan
CATEGORIES:北海道支部,支部例会
END:VEVENT
END:VCALENDAR