BEGIN:VCALENDAR
VERSION:2.0
PRODID:-//日本消化器内視鏡学会 - ECPv6.10.1.1//NONSGML v1.0//EN
CALSCALE:GREGORIAN
METHOD:PUBLISH
X-WR-CALNAME:日本消化器内視鏡学会
X-ORIGINAL-URL:https://www.jges.net
X-WR-CALDESC:日本消化器内視鏡学会 のイベント
REFRESH-INTERVAL;VALUE=DURATION:PT1H
X-Robots-Tag:noindex
X-PUBLISHED-TTL:PT1H
BEGIN:VTIMEZONE
TZID:Asia/Tokyo
BEGIN:STANDARD
TZOFFSETFROM:+0900
TZOFFSETTO:+0900
TZNAME:JST
DTSTART:20140101T000000
END:STANDARD
END:VTIMEZONE
BEGIN:VEVENT
DTSTART;TZID=Asia/Tokyo:20140405T133000
DTEND;TZID=Asia/Tokyo:20140405T190000
DTSTAMP:20260420T211311
CREATED:20170201T042410Z
LAST-MODIFIED:20170201T042410Z
UID:7305-1396704600-1396724400@www.jges.net
SUMMARY:第8回　長野拡大内視鏡研究会
DESCRIPTION:代表世話人：小山恒男（佐久医療センター内視鏡内科） \n当番世話人：\n 横澤秀一（相澤病院消化器病センター）\n 岩谷勇吾（長野市民病院消化器内科） \n会期：平成26年4月5日（土）13：30～19：00 \n会場：\n アクティーホール\n http://www.naganoken-jabill.co.jp/ \n会費：1\,000円 \n特別講演：埼玉県立がんセンター　有馬美和子 \n症例検討：\n 公募中\n 症例呈示希望者はhome page からお申し込み下さい。\n http://www.nagano-endoscopy.com/
URL:https://www.jges.net/event/2017-7305
LOCATION:JA長野県ビル\, 北石堂町1177番地3\, 長野市\, 長野県\, 3800826\, Japan
CATEGORIES:他学会等
END:VEVENT
END:VCALENDAR