BEGIN:VCALENDAR
VERSION:2.0
PRODID:-//日本消化器内視鏡学会 - ECPv6.10.1.1//NONSGML v1.0//EN
CALSCALE:GREGORIAN
METHOD:PUBLISH
X-WR-CALNAME:日本消化器内視鏡学会
X-ORIGINAL-URL:https://www.jges.net
X-WR-CALDESC:日本消化器内視鏡学会 のイベント
REFRESH-INTERVAL;VALUE=DURATION:PT1H
X-Robots-Tag:noindex
X-PUBLISHED-TTL:PT1H
BEGIN:VTIMEZONE
TZID:Asia/Tokyo
BEGIN:STANDARD
TZOFFSETFROM:+0900
TZOFFSETTO:+0900
TZNAME:JST
DTSTART:20140101T000000
END:STANDARD
END:VTIMEZONE
BEGIN:VEVENT
DTSTART;VALUE=DATE:20140515
DTEND;VALUE=DATE:20140518
DTSTAMP:20260420T194406
CREATED:20170106T081132Z
LAST-MODIFIED:20170106T081132Z
UID:2184-1400112000-1400371199@www.jges.net
SUMMARY:第87回　日本消化器内視鏡学会総会
DESCRIPTION:第87回　日本消化器内視鏡学会総会のご案内（第八報）\n会長: \n田中　雅夫（九州大学大学院医学研究院　臨床・腫瘍外科（第一外科）教授） \n会期: \n2014（平成26）年5月15日（木）～5月17日（土） \n会場: \n福岡国際会議場、福岡サンパレス、マリンメッセ福岡 \n学会ホームページ: \nhttp://www.congre.co.jp/jges87/ \n抄録専用Webサイト: \nhttps://confit.atlas.jp/guide/event/jges87/top \nプログラム: \n詳細はこちら \nメインテーマ: \n　Apprehensive Endoscopy?―気遣いの内視鏡― \n　2014年5月、日本消化器内視鏡学会の会員の皆様を福岡へお迎えし、第87回日本消化器内視鏡学会総会を主催させていただくことを大変光栄に思います。会場は福岡国際会議場、福岡サンパレス、マリンメッセ福岡を使います。海も山も近く自然と史跡に恵まれたクリーンな福岡でお待ちしております。中国から偏西風に運ばれて空を黄色く染める黄砂もおさまって、新緑あふれる大変良い季節です。一年中おいしい福岡の新鮮な魚も、よりおいしく感じられる頃です。\n　私は外科医ですが、消化器内視鏡学会は私が医師になって最初に参加した学会です。従って、卒後1年目の1974年以来ほとんど毎回欠かさず38年間参加してきています。この間、胆膵領域では内視鏡的乳頭括約筋切開術が導入され、瞬く間に経乳頭的胆膵内視鏡処置に著しい進歩をもたらしました。消化管では色素内視鏡やNBIなど特殊光内視鏡による診断の進歩もありますが、polypectomy、EMR、ESDと続く治療面が飛躍的な進歩を遂げました。どの道においても、我が国の内視鏡学会会員はその進歩に中心的な役割を果たしてきました。また、各領域における分子生物学的研究の発展は、内視鏡学の分野にもある程度及んできています。\n　本総会はメインテーマをApprehensive Endoscopyと致しました。日本語で言えば「気遣いの内視鏡」です。内視鏡はどんなに細径化されても、例えルートが経鼻的になっても、決して楽な検査ではなく、完全に安全でもあり得ません。これをいかに楽に安全に行うかは、患者にとっても内視鏡医にとっても最も重要な課題であることは言うまでもありません。また、あくなき挑戦は必要ですが、単に新しいことをしたいから話題を作りたいからと変わったことに突き進むのではなく、患者はもちろんですが「内視鏡学」への気遣いを十分にしながらの挑戦でないといけないと私は考えています。Apprehensive Endoscopyとはそのような意味を込めてのテーマです。\n　この総会は、一般会員のfree paperにできるだけ発表の機会をと考えて、一般演題セッションを多くしました。無論、数は少なめにしましたが教育講演もお役に立つことと思います。大きな特色は、九州大学病院にありますアジア遠隔医療開発センターが世界中に張り巡らしてきたネットワークを活用してのライブ内視鏡の試みです。ライブには問題もあることは承知していますが、適応と症例を無理のないように選択し安全性を熟慮・熟考のうえ実施すれば、何と言ってもその緊張感と臨場感は会員の皆さんには大変興味深いものと思います。但し、無理は絶対にしないことを大前提とし、突然のキャンセルは構わないことにしていますので、あるいはプログラムに大きな穴があくかも知れません。それもライブのライブらしさと考えていただきますようにお願いします。\n　玄界灘の荒波にもまれた福岡の魚がおいしいのはよく知られています。国際会議場から近くにはベイサイドプレイスという若者向けのショップ、レストラン街があります。有名な中洲は大いに健在でたくさんのおいしい飲食店がありますし、最近は中洲のみならず中心街の天神町の西側にも実に多くの趣向を凝らした新しい飲食店ができています。比較的安い値段で大いに楽しめます。昔も今も、楽しい福岡で、皆様をお待ちしています。 \n \n第87回　日本消化器内視鏡学会総会　プログラム\n\n5月15日（木）11：10～11：50　第1会場\n【理事長講演】 \n『内視鏡―“視る”から“観る”、そして“察する”―』 \n田尻久雄\n（日本消化器内視鏡学会 理事長、東京慈恵会医科大学内科学講座消化器・肝臓内科） 司会：藤田力也（医療法人社団三喜会理事長）\n\n5月16日（金）13：30～14：20　第1会場\n【会長講演】 \n『外科医がする内視鏡の楽しみ方』\n　田中雅夫\n　（第87回日本消化器内視鏡学会総会 会長/\n　九州大学大学院医学研究院 臨床・腫瘍外科）\n　司会：上西紀夫（日本消化器内視鏡学会 前理事長／公立昭和病院） \n\n5月17日（土）11：00～12：00　第3会場\n【特別講演】 \n『「見ること」と「見るなの禁止」』\n　北山　修\n　（九州大学名誉教授、白鴎大学副学長）\n　司会：田中雅夫（九州大学大学院医学研究院臨床・腫瘍外科） \n【教育講演】\n\n5月15日（木）13：10～14：00　第5会場\nＥＬ1． \n『Volumetric laser endomicroscopy （VLE） correlations between physiology and imaging』\n　Kenneth K. Wang\n　（President\, American Society for Gastrointestinal Endoscopy/Mayo Clinic\, USA） \n司会：田尻久雄（日本消化器内視鏡学会 理事長、東京慈恵会医科大学内科学講座 消化器・肝臓内科）\n\n5月15日（木）14：00～14：40　第6会場\nＥＬ2． \n『The role of endoscopic biliary sphincterotomy for the treatment of type 1 biliary dysfunction （papillary stenosis） with or without biliary stones』\n　須川暢一\n　（Wayne State University School of Medicine\, USA）\n　司会：屋嘉比康治（埼玉医科大学総合医療センター消化器・肝臓内科） \n\n5月16日（金）9：50～10：40　第4会場\nＥＬ3． \n『食道アカラシアに対するPOEMとその展開　―500例超の経験から』\n　井上晴洋\n　（昭和大学江東豊洲病院 消化器センター）\n　司会：幕内博康（東海大学医学部付属病院） \n\n5月16日（金）10：40～11：30　第4会場\nＥＬ4． \n『Natural orifice translumenal endoscopic surgery』\n　Anthony N. Kalloo\n　（The Johns Hopkins Hospital\, USA）\n　司会：田中雅夫（九州大学大学院医学研究院臨床・腫瘍外科） \n\n5月16日（金）11：30～12：20　第4会場\nＥＬ5． \n『Endoscopic necrosectomy for pancreatic necrosis』\n　Paul Fockens \n（President\, European Society of Gastrointestinal Endoscopy/Academic Medical Center\, The Netherlands）\n　司会：吉田茂昭（青森県立中央病院） \n\n5月17日（土）12：00～12：50　第3会場\nＥＬ6． \n『ESDの開発と展望』\n　小野裕之\n　（静岡県立静岡がんセンター　内視鏡科）\n　司会：飯田三雄（公立学校共済組合九州中央病院） \n【国際シンポジウム】\n1．JGES-ASGE Joint Symposium : Advanced therapeutic endoscopy\n5月15日（木）14：00～16：30　第5会場\nModerators：\nKenneth K. Wang\n（President\, American Society for Gastrointestinal Endoscopy/Mayo Clinic\, USA）\nNaohisa Yahagi（Cancer Center\, Keio University\, Japan） \n1．“Advanced therapeutic endoscopy”\nAnthony N. Kalloo\n（The Johns Hopkins Hospital\, USA）\n2．“Bariatric endoscopic procedures : Current status and future devices”\nChristopher C. Thompson\n（Brigham and Women’s Hospital\, Harvard Medical School\, USA）\n3．“Laparoscopy-endoscopy collaborative surgery （LECS）”\nNaoki Hiki\n（Cancer Institute Hospital Gastroenterology Center\, Japan）\n4．“Novel full-thickness resection technique for gastric submucosal tumors and cancers”\nOsamu Goto\n（Keio University\, School of Medicine\, Cancer Center\, Japan）\n5．“Endoscopic investigation of deeper layers”\nKazuki Sumiyama\n（The Jikei University School of Medicine\, Japan）\n6．“Incorporating new endoscopic tools and techniques in the United States – Overcoming obstacles”\nNorio Fukami\n（University of Colorado Denver\, USA）\n2．JGES-ESGE Joint Symposium : Endoscopic management of upper GI neoplasia\n5月16日（金）14：30～17：00　第7会場\nModerators：\nHaruhiro Inoue\n（Digestive Disease Center\,Showa University Koto-Toyosu Hospital\, Japan）\nPaul Fockens\n（President\, European Society of Gastrointestinal Endoscopy/Academic Medical Center\,\nThe Netherlands） \n1．“Barrett’s esophagus : endoscopic diagnosis”\nMathieu Pioche\n（Endoscopy Unit\, Universitary Hospital\, Lyon\, France/Endoscopy Unit\,\nNational Cancer Center\, Tokyo\, Japan）\n2．“Endomicroscopy in Barrett’s esophagus”\nWerner Dolak\n（Division of Gastroenterology and Hepatology\, Department of Internal Medicine III\, Medical University of Vienna\, Austria）\n3．“Barrett’s adenocarcinoma : Endoscopic diagnosis and treatment”\nIchiro Oda\n（National Cancer Center Hospital\, Japan）\n4．“Endoscopic therapy of Barrett’s esophagus related neoplasia”\nJan Martínek\n（Department of Hepatogastroenterology\, Institute for Clinical and Experimental Medicine\, Czech Republic）\n5．“Endoscopic aspect of superficial squamous carcinoma in the esophagus”\nKenichi Goda\n（The Jikei University School of Medicine\, Japan）\n6．“In vivo evaluation of living cells in the esophagus ‘Endocytoscopic histology’”\nHitomi Minami\n（Nagasaki University Hospital\, Japan）\n7．“The endoscopic diagnosis of early gastric cancer”\nKenshi Yao\n（Fukuoka University Chikushi Hospital\, Japan）\n8．“Stomach : Proposal for diagnostic algorithm of gastric mucosal cancer”\nManabu Muto\n（Kyoto University\, Japan）\n9．“Endoscopic submucosal dissection for early stage gastric neoplasms and beyond”\nMitsuhiro Fujihiro\n（The University of Tokyo Hospital\, Japan）\n10．“ESD training in Europe : Do we need it? What can we offer?”\nMário Dinis-Ribeiro\n（Instituto Português de Oncologia do Porto\, Portugal）\n3．JGES-Asian International Joint Symposium-with the 13th Japan Korea Joint Symposium on Gastrointestinal Endoscopy（JKSGE）\n5月17日（土）8：30～11：10　第7会場\nI．Interventional EUS\nModerators：\nTakao Itoi（Tokyo Medical University\, Japan）\nHo Soon Choi\n（Hanyang University Medical Center\, Korea） \n1．“New possibilities of interventional EUS”\nAtsushi Irisawa\n（Fukushima Medical University Aizu Medical Center\, Japan）\n2．“EUS-guided celiac plexus neurolysis”\nIchiro Yasuda（Teikyo University Mizonokuchi Hospital\, Japan）\n3．“EUS-guided pancreatic fluid drainage”\nJong Kyun Lee\n（Sungkyunkwan University\, Samung Medical Center\, Korea）\n4．“EUS-guided biliary drainage : Past\, present and future”\nDo Hyun Park\n（University of Ulsan College of Medicine\, Asan Medical Center\, Korea）\nII．Endoscopic treatments for difficult common bile duct stones\nModerators：Yoshinori Igarashi（Toho University Omori Medical Center\, Japan）\nJin Hong Kim（Ajou University\, Korea） \n1．“Endoscopic lithotripsy in difficult CBD stone”\nYoung Deok Cho\n（ Soon Chun Hyang University Hospital\, Korea）\n2．“Management of difficult CBD stones – Surgical endoscopist perspective”\nAngus Chan\n（Hong Kong Sanatorium & Hospital\,Hong Kong）\n3．“Optimal indications and method of large balloon dilatation for difficult CBD stone”\nEun Taek Park\n（Kosin University College of Medicine\,Gospel Hospital\, Korea）\n4．“Peroral cholangioscopy using a mother-baby system for the treatment of difficult bile duct stones”\nToshio Tsuyuguchi（Chiba University\, Japan）\n【シンポジウム】\n\n5月15日（木）8：30～11：00　第1会場\nＳ1． \n『気遣いの内視鏡』\n　司会：北野正剛（大分大学）\n　　　　潟沼朗生（手稲渓仁会病院 消化器内科）\n　総括発言：藤田力也（医療法人社団三喜会理事長） \n\n5月15日（木）14：00～16：30　第1会場\nＳ２． \n『IBDにおける粘膜治癒の判定基準とその臨床的意義』\n　司会：松井敏幸（福岡大学筑紫病院 消化器内科）\n　　　　中村和彦（九州大学大学院医学研究院 病態制御内科学） \n\n5月15日（木）8：30～11：00　第6会場\nＳ３． \n『バレット食道表在癌の診断と治療』\n　司会：瀬戸泰之（東京大学大学院医学系研究科 消化管外科学）\n　　　　小山恒男（JA長野厚生連佐久医療センター 内視鏡内科） \n\n5月16日（金）14：30～17：00　第1会場\nＳ４． \n『大腸ESDの適応と手技』\n　司会：田中信治（広島大学病院 内視鏡診療科）\n　　　　豊永高史（神戸大学医学部附属病院 光学医療診療部） \n\n5月16日（金）9：00～12：00　第2会場\nＳ５． \n『カプセル内視鏡の現状と問題点』\n　司会：松本主之（岩手医科大学医学部内科学講座 消化器内科消化管分野）\n　　　　平井郁仁（福岡大学筑紫病院 消化器内科） \n\n5月16日（金）14：30～17：00　第2会場\nＳ６． \n『分枝型膵IPMNの診断・悪性度の評価における内視鏡の役割』\n　司会：山口幸二（産業医科大学 消化器・内分泌外科）\n　　　　花田敬士（JA尾道総合病院） \n\n5月16日（金）14：30～17：00　第3会場\nＳ７． \n『抗血栓薬服用者に対する消化器内視鏡ガイドライン実施後の現状と課題』\n　司会：坂本長逸（日本医科大学 消化器内科学）\n　　　　藤本一眞（佐賀大学医学部 内科） \n\n5月16日（金）14：30～17：00　第4会場\nＳ８． \n『H.pylori除菌適応拡大は内視鏡診療に何をもたらすか？』\n　司会：春間　賢（川崎医科大学 消化管内科）\n　　　　上村直実（国立国際医療研究センター国府台病院） \n\n5月16日（金）14：30～17：00　第6会場\nＳ９． \n『十二指腸ESDの現状と問題点』\n　司会：小野裕之（静岡県立静岡がんセンター 内視鏡科）\n　　　　矢作直久（慶應義塾大学医学部腫瘍センター　低侵襲療法研究開発部門） \n\n5月17日（土）8：30～11：00　第1会場\nＳ10． \n『上部消化管における拡大内視鏡診断』\n　司会：八尾建史（福岡大学筑紫病院 内視鏡部）\n　　　　石原　立（大阪府立成人病センター 消化管内科） \n\n5月17日（土）8：30～11：00　第3会場\nＳ11． \n『胆嚢総胆管結石に対する内視鏡／腹腔鏡治療』\n　司会：藤田直孝（仙台市医療センター 仙台オープン病院 消化器内科）\n　　　　植木敏晴（福岡大学筑紫病院 消化器内科） \n【パネルディスカッション】\n\n5月15日（木）8：30～11：00　第2会場\nＰＤ１． \n『気遣いの内視鏡外科手術：食道・胃』\n　司会：永井英司（九州大学大学院医学研究院 臨床・腫瘍外科）\n　　　　比企直樹（がん研究会有明病院消化器センター）\n　特別発言：谷川允彦（篤靜会　谷川記念病院） \n\n5月15日（木）　14：00～16：30　第2会場\nＰＤ２． \n『内視鏡診療における鎮静剤の使い方と問題点』\n　司会：芳野純治（藤田保健衛生大学坂文種報徳會病院 消化器内科）\n　　　　貝瀬　満（虎の門病院 消化器内科）\n　特別発言：小原 勝敏（福島県立医科大学附属病院 内視鏡診療部） \n\n5月15日（木）8：30～11：00　第4会場\nＰＤ３． \n『胆膵インターベンショナルEUSの偶発症とその対策』\n　司会：木田光広（北里大学医学部 消化器内科）\n　　　　岡部義信（久留米大学医学部内科学講座 消化器内科部門）\n　特別発言：山雄健次（愛知県がんセンター中央病院消化器内科） \n\n5月15日（木）14：00～17：00　第7会場\nＰＤ４． \n『慢性膵炎の治療　内視鏡治療 vs. 外科手術』\n　司会：伊藤鉄英（九州大学大学院医学研究院 病態制御内科学）\n　　　　高畑俊一（九州大学大学院医学研究院 臨床・腫瘍外科）\n　基調講演：Vikesh K. Singh （The Johns Hopkins Hospital\, USA） \n\n5月15日（木）14：00～16：30　第8会場\nＰＤ５． \n『気遣いの内視鏡外科手術：大腸』\n　司会：渡邊昌彦（北里大学医学部 外科）\n　　　　秋吉高志（がん研究会有明病院 消化器センター） \n\n5月16日（金）9：00～11：30　第5会場\nＰＤ６． \n『消化管NETの内視鏡診断と治療成績』\n　司会：磯本　一（長崎大学病院 光学医療診療部）\n　　　　斎藤　豊（国立がん研究センター中央病院） \n\n5月16日（金）9：00～11：30　第8会場\nＰＤ７． \n『気遣いの内視鏡外科手術：肝・胆・膵』\n　司会：若林　剛（岩手医科大学 外科）\n　　　　中村雅史（川崎医科大学 消化器外科）\n　特別発言：山下裕一（福岡大学医学部消化器外科） \n\n5月17日（土）8：30～11：00　第6会場\nＰＤ８． \n『膵・胆道癌の術前胆道ドレナージの是非』\n　司会：真口宏介（手稲渓仁会病院）\n　　　　長谷部修（長野市民病院） \n【ワークショップ】\n\n5月15日（木）　8：30～11：00　第3会場\nＷ１． \n『内視鏡的乳頭ラージバルーン拡張術（EPLBD）による総胆管結石治療』\n　司会：良沢昭銘（埼玉医科大学国際医療センター消化器内科）\n　　　　伊佐山浩通（東京大学医学系研究科 消化器内科） \n\n5月15日（木）　14：00～16：30　第3会場\nＷ２． \n『超高齢者（85歳以上）に対する内視鏡　どこまでするの：上部（ESD/EMR）』\n　司会：平田一郎（藤田保健衛生大学医学部　消化管内科学講座）\n　　　　宗　祐人（戸畑共立病院消化器病センター） \n\n5月15日（木）　14：00～16：30　第4会場\nＷ３． \n『ヘリコバクター・ピロリ除菌後胃癌の実態』\n　司会：加藤元嗣（北海道大学病院 光学医療診療部）\n　　　　村上和成（大分大学医学部附属病院 消化器内科） \n\n5月15日（木）8：30～11：00　第5会場\nＷ４． \n『術中内視鏡と腹腔鏡を融合した治療戦略』\n　司会：北川雄光（慶應義塾大学医学部外科学教室 一般・消化器外科）\n　　　　藤城光弘（東京大学医学部附属病院 光学医療診療部） \n\n5月15日（木）14：40～17：10　第6会場\nＷ５． \n『ERCP後膵炎の病態と対策』\n　司会：杉山政則（杏林大学 消化器・一般外科）\n　　　　峯　徹哉（東海大学医学部医学科 内科学系消化器内科） \n\n5月15日（木）8：30～11：00　第7会場\nＷ６． \n『術前管理と術後合併症に対する内視鏡の役割』\n　司会：國崎主税（横浜市立大学附属市民総合医療センター 消化器外科）\n　　　小林　剛（仙台市医療センター 仙台オープン病院 消化器内科） \n\n5月16日（金）9：00～11：30　第1会場\nＷ７． \n『上部消化管出血（非静脈瘤）に対する治療』\n　司会：岩切龍一（佐賀大学医学部 光学医療診療部）\n　　　　赤星和也（麻生飯塚病院 消化器内科） \n\n5月16日（金）9：00～11：30　第3会場\nＷ８． \n『胆膵内視鏡における質の高い技術習得を目指した指導法の工夫』\n　司会：糸井隆夫（東京医科大学病院 消化器内科）\n　　　　原　和生（愛知県がんセンター 消化器内科）\n　特別発言：池田靖洋（福岡大学名誉教授） \n\n5月16日（金）14：30～17：00　第5会場\nＷ９． \n『消化管瀘胞性リンパ腫の診断と治療』\n　司会：岡田裕之（岡山大学病院 光学医療診療部）\n　　　　中村昌太郎（九州大学先端医療イノベーションセンター） \n\n5月16日（金）9：00～11：45　第6会場\nＷ10． \n『超高齢者（85歳以上）に対する内視鏡　どこまでするの：下部消化管』\n　司会：工藤進英（昭和大学横浜市北部病院消化器センター）\n　　　　横山　薫（北里大学東病院 消化器内科） \n\n5月16日（金）9：00～11：30　第7会場\nＷ11． \n『超高齢者（85歳以上）に対する内視鏡　どこまでするの：上部（ESD/EMR以外の診療）』\n　司会：高橋信一（杏林大学医学部 第三内科）\n　　　　河合　隆（東京医科大学病院 内視鏡センター） \n\n5月16日（金）14：30～17：00　第8会場\nW12． \n『超高齢者（85歳以上）に対する内視鏡　どこまでするの：胆膵』\n　司会：五十嵐良典（東邦大学医療センター大森病院 消化器内科）\n　　　　入澤篤志（福島県立医科大学会津医療センター 消化器内科学講座） \n\n5月17日（土）8：30～11：00　第2会場\nW13． \n『消化管狭窄の内視鏡治療 下部』\n　司会：大宮直木（藤田保健衛生大学病院 消化管内科）\n　　　　斉田芳久（東邦大学医療センター大橋病院　外科） \n\n5月17日（土）8：30～11：00　第4会場\nW14． \n『食道・胃静脈瘤の診断と治療の最先端』\n　司会：小原勝敏（福島県立医科大学附属病院 内視鏡診療部）\n　　　　桑野博行（群馬大学大学院 病態総合外科） \n\n5月17日（土）8：30～11：00　第5会場\nW15． \n『内視鏡修練のクオリティーコントロール：消化管』\n　司会：一瀬雅夫（和歌山県立医科大学 第２内科）\n　　　　原田直彦（独立行政法人国立病院機構九州医療センター） \n\n5月17日（土）8：30～11：00　第8会場\nW16． \n『消化管狭窄の内視鏡治療 上部』\n　司会：小澤壯治（東海大学医学部 消化器外科）\n　　　　今枝博之（埼玉医科大学 総合診療内科） \n\n5月17日（土）8：30～11：00　第11会場\nW17． \n『内視鏡と機能・分子診断（消化管・胆膵）』\n　司会：安藤　朗（滋賀医科大学 感染応答・免疫調節部門）\n　　　　大塚隆生（九州大学大学院医学研究院 臨床・腫瘍外科） \n【内視鏡ライブセッション】\n本ライブセッションでは、会場を日本のみならずアジア太平洋地区の基幹病院と接続し、世界トップレベルの診断および治療手技を学会員の皆さまにお届けします。最近話題のPOEMを初め、NBI、ESD、EUS、ステントなど魅力的なプログラムを計画中です。海外からも座長やコメンテータをお招きし、ディスカッションはすべて英語で行われます。ライブに限らず、国際的な遠隔医療教育がより身近になるような企画を目指しています。 \n\n5月15日（木）9：00～11：00　第11会場\n1．Upper GI \nModerators：\nHaruhiro Inoue\n（ Digestive Disease Center\,Showa University Koto-Toyosu Hospital\, Japan）\nRungsun Rerknimitr\n（Chualongkorn University\, Thailand） \nPanelists：\nNoriya Uedo\n（Department of Gastrointestinal Oncology\, Osaka Medical Center for Cancer and\nCardiovascular Diseases\, Japan）\nTakuji Gotoda\n（Department of Gastroenterology & Hepatology\, Tokyo Medical University\, Japan）\nMotohiro Esaki\n（Department of Medicine and Clinical Science\, Graduate School of Medical Science\, Kyushu University\, Japan）\nVinh Thuy Nguyen（E Central Hospital\, Vietnam） \nLive Demonstrations： \n1．“Esophagus”\nYasuhiro Takaki\n（Gastroenterology\, Fukuoka University Chikushi Hospital\, Japan）\n2．“Esophagus”　\nRajvinder Singh\n（Lyell McEwin Hospital & University of Adelaide\, Australia）\n3．“Esophagocardial junction”\nPinghong Zhou\n（Zhongshan Hospital\, Fudan University\, China）\n4．“Esophagocardial junction”\nPhilip W. Y. Chiu\n（Faculty of Medicine\, The Chinese University of Hong Kong\,Hong Kong）\n5．“Stomach”\nKenshi Yao\n（Fukuoka University Chikushi Hospital Department of Endoscopy\, Japan）\n\n5月15日（木）　14：00～16：30　第11会場\n2．Lower GI \nModerators：\nShinji Tanaka\n（Department of Endoscopy\,\nHiroshima University\, Japan）\nChristopher Khor\n（Singapore General Hospital\, Singapore） \nPanelists：\nYutaka Saito\n（National Cancer Center Hospital\, Japan）\nOsamu Tsuruta\n（Digestive Disease Center\, Kurume University School of Medicine\, Japan）\nHiroo Yamano\n（Department of Gastroenterology\, Akita Red Cross Hospital\, Japan）\nShiaw-Hooi Ho\n（University of Malaya\, Malaysia） \nLive Demonstrations： \n1．“Colon”\nTakashi Toyonaga\n（Department of Endoscopy\, Kobe University Hospital\, Japan）\n2．“Colon”\nShiro Oka（Department of Endoscopy\, Hiroshima University Hospital\, Japan）\n3．“Colon”\nHan-Mo Chiu （National Taiwan University\, Taiwan）\n\n5月16日（金）9：30～11：30　第11会場\n3．Pancreatobiliary 1 \nModerators：\nKenjiro Yasuda\n（Department of Gastroenterology\, Kyoto Second Red Cross Hospital\, Japan）\nChristopher Khor\n（Singapore General Hospital\, Singapore） \nPanelists：\nShomei Ryozawa\n（Department of Gastroenterology Saitama Medical University International Medical Center\, Japan）\nIchiro Yasuda\n（Department of Gastroenterology\, Teikyo University Mizonokuchi Hospital\, Japan）\nHisato Igarashi\n（Department of Medical and Bioregulatory Science\, Graduate School of Medical Science\, Kyushu University\, Japan）\nDadang Makmun\n（Division of Gastroenterology Department of Internal Medicine Faculty of Medicine University of Indonesia\, Indonesia） \nLive Demonstrations： \n1．“Pancreatobiliary”\nKiyohito Tanaka\n（Department of Gastroenterology\, Kyoto Second Red Cross Hospital\, Japan）\n2．“Pancreatobiliary”\nYoshinobu Okabe\n（Division of Gastroenterology\, Department of Medicine\, Kurume University School of Medicine\, Japan）\n3．“Pancreatobiliary”\nChan Sup Shim\n（Digestive Disease Center\, Konkuk University Medical Center\, Korea）\n4．“Pancreatobiliary”\nHsiu-Po Wang\n（Department of Internal Medicine\, National Taiwan University Hospital\, Taiwan）\n\n5月16日（金）14：30～17：00　第11会場\n4．Pancreatobiliary 2 \nModerators：\nKenjiro Yasuda\n（Department of Gastroenterology\, Kyoto Second Red Cross Hospital\, Japan）\nRungsun Rerknimitr\n（Chualongkorn University\, Thailand） \nPanelists：\nHiroyuki Isayama\n（Department of Gastroenterology\, Graduate School of Medicine\, The University of Tokyo\, Japan）\nTakao Itoi\n（Department of Gastroenterology and Hepatology\, Tokyo Medical University\, Japan）\nAkio Katanuma\n（Center for Gastroenterology\, Teine-Keijinkai Hospital\, Japan）\nFrederick Dy\n（University of Santo Tomas Hospital\, Philippines） \nLive Demonstrations： \n1．“Pancreatobiliary”\nDon Wang Seo\n（Department of Gastroenterology\, Asan Medical Center\, Korea）\n2．“Pancreatobiliary”\nThawee Ratanachu-Ek（Rajavithi Hospital\, Thailand）\nNonthalee Pausawasdi（ Siriraj Hospital\, Mahidol University\, Thailand）\n3．“Pancreatobiliary”　\nD. Nageshwar Reddy\n（Chairman\, Asian Institute of Gastroenterology\, India）\n【一般演題】\nプレナリーセッション、一般口演、一般ポスター\n公募演題採否通知について\n採否結果はメールにてご連絡いたしております。\n日時会場等詳細につきましては、採択演題一覧を総会ホームページに公開いたしておりますので必ずご確認ください。 \n【会長賞】\n査読結果をもとに選出されたプレナリーセッション20 演題から、学会当日、座長による審査を行い会長賞１名を決定いたします。\n受賞者は、５月15 日（木）に開催いたします評議員懇親会におきまして発表・表彰いたします。\n宿泊案内について\n総会ホームページにて詳細をご確認ください。 \n【お問い合わせ先】\n株式会社JTB 九州 コミュニケーション事業部\n第87回日本消化器内視鏡学会総会 デスク\n〒810-0072 福岡市中央区長浜1-1-35 新KBC ビル４階\nTEL：092-712-6142 / FAX：092-751-9200\nE-Mail：traveljges87@kys.jtb.jp\n営業時間：10：00～18：00（土・日・祝日は休業） \n\nプログラム委員（敬称略，50音順） \n赤星　和也、秋吉　高志、安藤　　朗、五十嵐良典、伊佐山浩通、石原　　立、\n磯本　　一、一瀬　雅夫、糸井　隆夫、伊藤　鉄英、井上　晴洋、入澤　篤志、\n岩切　龍一、植木　敏晴、上村　直実、大塚　隆生、大宮　直木、岡田　裕之、\n岡部　義信、小澤　壯治、小野　裕之、小原　勝敏、小山　恒男、貝瀬　　満、\n潟沼　朗生、加藤　元嗣、上西　紀夫、木田　光広、北川　雄光、北野　正剛、\n工藤　進英、國崎　主税、桑野　博行、小林　　剛、斎藤　　豊、坂本　長逸、\n清水　周次、杉山　政則、瀬戸　泰之、宗　　祐人、高橋　信一、高畑　俊一、\n田尻　久雄、田中　信治、豊永　高史、永井　英司、中村　和彦、中村昌太郎、\n中村　雅史、長谷部　修、花田　敬士、原　　和生、原田　直彦、春間　　賢、\n比企　直樹、平井　郁仁、藤城　光弘、藤田　直孝、藤本　一眞、真口　宏介、\n松井　敏幸、松本　主之、峯　　徹哉、村上　和成、八尾　建史、安田健治朗、\n矢作　直久、山口　幸二、横山　　薫、芳野　純治、良沢　昭銘、若林　　剛、\n渡邊　昌彦\n\n\n87回総会事務局：九州大学大学院医学研究院　臨床・腫瘍外科\n〒812-8582　福岡市東区馬出3-1-1\nTEL：092-643-6334　　FAX：092-643-6335\nE-mail：jges87@med.kyushu-u.ac.jp \n\n\n運営事務局：株式会社コングレ内\n〒810-0001　福岡市中央区天神1-9-17-11F\nTEL：092-716-7116　　FAX：092-716-7143\nE-mail：jges87@congre.co.jp
URL:https://www.jges.net/event/jges87
LOCATION:福岡国際センター・福岡サンパレス・福岡国際会議場・マリンメッセ福岡
CATEGORIES:総会
END:VEVENT
END:VCALENDAR