BEGIN:VCALENDAR
VERSION:2.0
PRODID:-//日本消化器内視鏡学会 - ECPv6.10.1.1//NONSGML v1.0//EN
CALSCALE:GREGORIAN
METHOD:PUBLISH
X-WR-CALNAME:日本消化器内視鏡学会
X-ORIGINAL-URL:https://www.jges.net
X-WR-CALDESC:日本消化器内視鏡学会 のイベント
REFRESH-INTERVAL;VALUE=DURATION:PT1H
X-Robots-Tag:noindex
X-PUBLISHED-TTL:PT1H
BEGIN:VTIMEZONE
TZID:Asia/Tokyo
BEGIN:STANDARD
TZOFFSETFROM:+0900
TZOFFSETTO:+0900
TZNAME:JST
DTSTART:20140101T000000
END:STANDARD
END:VTIMEZONE
BEGIN:VEVENT
DTSTART;VALUE=DATE:20140906
DTEND;VALUE=DATE:20140908
DTSTAMP:20260420T152900
CREATED:20170110T073828Z
LAST-MODIFIED:20170110T073828Z
UID:2342-1409961600-1410134399@www.jges.net
SUMMARY:第109回　日本消化器内視鏡学会北海道支部例会
DESCRIPTION:第109回　日本消化器内視鏡学会北海道支部例会のご案内\nこの度の支部例会は、第115回日本消化器病学会北海道支部例会（会長　北海道大学大学院医学研究科　内科学講座消化器内科学分野・坂本　直哉教授）との合同開催になります。 \n会長： \n　近藤　仁（斗南病院　消化器内科　診療部長） \n会期： \n　2014年（平成26年）9月6日（土）～9月7日（日） \n会場： \n　札幌コンベンションセンター \n　〒003-0006　札幌市白石区東札幌6条1丁目1-1 \n北海道支部例会HP： \n　http://www.c-linkage.co.jp/jsge115-jges109-hokkaido/ \n  \n演題募集期間： \n　終了致しました。 \n  \n特別講演 \n　「消化器領域におけるIgG4 関連疾患」\n 　演者：岡崎和一（関西医科大学内科学第三講座） \n 　シンポジウム（公募）\n 　　「消化器疾患の診断治療指標の進歩」 \n 　ビデオシンポジウム（公募）\n 　　「消化器腫瘍の診断治療の工夫」\n 　　①「消化管腫瘍の診断治療における工夫」\n 　　②「肝胆膵の診断・治療における工夫」 \n 一般演題（公募） \n  \n優秀演題表彰 \n　【優秀演題賞】 \n　　発表演題から各分野別（上部消化管、下部消化管、肝胆膵）に1 題を選定し、優秀演題として支部が表彰し、副賞として３万円を贈呈いたします。 \n　【専修医（後期研修医）優秀演題賞】 \n　　卒後３～５年専修医（後期研修医）による発表演題から最優秀演題賞1 題と優秀演題賞１題を選定いたします。\n 　　最優秀演題に対しては本部が表彰し、本学会総会への参加を招待いたします。\n 　　優秀演題に対しては支部が表彰し、副賞として３万円を贈呈いたします。 \n　【研修医（初期研修医）優秀演題賞】 \n　　卒後１～２年研修医（初期研修医）による発表演題から最優秀演題賞1 題と優秀演題賞１題を選定いたします。\n 　　最優秀演題に対しては本部が表彰し、本学会総会への参加を招待いたします。\n 　　優秀演題に対しては支部が表彰し、副賞として３万円を贈呈いたします。 \n  \n連絡先： \n　第109回日本消化器内視鏡学会北海道支部例会運営事務局\n 　株式会社コンベンションリンケージ北海道本部内\n 　〒060-0003　札幌市中央区北3条西3丁目1札幌大同生命ビル10階\n 　TEL：011-272-2151/FAX：011-272-2152\n 　担当：丹野　沙耶香、雄鹿　遼\n 　E-mail：jsge-jges-hokkaido@c-linkage.co.jp
URL:https://www.jges.net/event/2017-2342
LOCATION:札幌コンベンションセンター\, 白石区東札幌6条1丁目1-1\, 札幌市\, 北海道\, 003-0006　\, Japan
CATEGORIES:北海道支部,支部例会
END:VEVENT
END:VCALENDAR