BEGIN:VCALENDAR
VERSION:2.0
PRODID:-//日本消化器内視鏡学会 - ECPv6.10.1.1//NONSGML v1.0//EN
CALSCALE:GREGORIAN
METHOD:PUBLISH
X-ORIGINAL-URL:https://www.jges.net
X-WR-CALDESC:日本消化器内視鏡学会 のイベント
REFRESH-INTERVAL;VALUE=DURATION:PT1H
X-Robots-Tag:noindex
X-PUBLISHED-TTL:PT1H
BEGIN:VTIMEZONE
TZID:Asia/Tokyo
BEGIN:STANDARD
TZOFFSETFROM:+0900
TZOFFSETTO:+0900
TZNAME:JST
DTSTART:20140101T000000
END:STANDARD
END:VTIMEZONE
BEGIN:VEVENT
DTSTART;TZID=Asia/Tokyo:20141005T000000
DTEND;TZID=Asia/Tokyo:20141005T150000
DTSTAMP:20260422T202256
CREATED:20170201T052326Z
LAST-MODIFIED:20170201T052326Z
UID:7417-1412467200-1412521200@www.jges.net
SUMMARY:大腸ESD　ハンズオンセミナー in 北陸
DESCRIPTION:代表世話人：平松　活志（福井大学医学部附属病院　光学医療診療部） \n会期：平成26 年10 月5 日（日）　12：00～15：00 \n会場：福井大学医学部附属病院　臨床教育研究センター　2F　白翁会ホール \n内容：\n 特別シンポジウム　（12：00～12：50）\nタイトル：北陸における大腸ESD の現状（司会：平松　活志）\n   ハンズオンセミナー（13：00～14：50）\n 内容：\n 　1ブースあたり6 人の参加者、4 ブースで実施。\n 　大腸のアニマルモデル（切除臓器）を用いた粘膜下層剝離術（ESD）の実技指導\n   シンポジストおよびハンズオン講師\n 　平松　活志（福井大学医学部付属病院　光学医療診療部）\n 　山田　真也（石川県立中央病院　消化器内科）\n 　在原　文教（富山県立中央病院　内科）\n 　鷹取　元（公立松任石川中央病院　消化器内科）\n 　伊藤　透（金沢医科大学　内視鏡センター）\n 　藤波　斗（富山大学医学部附属病院　消化器内科） \n参加費：1\,500 円（昼食代） \n参加者数：受講者　定員24 人（参加希望者は下記連絡先までご連絡下さい。） \n業績ポイント：日本消化器内視鏡学会専門医制度業績ポイント：講師5 点、司会3 点、受講者2 点 \n連絡先：\n 平松　活志\n 福井大学医学部附属病院 光学医療診療部\n 〒910-1193 福井県吉田郡永平寺町松岡下合月23-3\n TEL：0776-61-8351　FAX：0776-61-8110\n E-mail：hiramatz@u-fukui.ac.jp
URL:https://www.jges.net/event/2017-7417
LOCATION:福井大学医学部附属病院\, 松岡下合月23−3\, 吉田郡永平寺町\, 福井県\, 9101104
CATEGORIES:共催・後援ライブセミナー・ハンズオンセミナー
END:VEVENT
BEGIN:VEVENT
DTSTART;TZID=Asia/Tokyo:20141005T100000
DTEND;TZID=Asia/Tokyo:20141005T160000
DTSTAMP:20260422T202256
CREATED:20220216T063322Z
LAST-MODIFIED:20220216T063322Z
UID:54031-1412503200-1412524800@www.jges.net
SUMMARY:第36回　重点卒後教育セミナー
DESCRIPTION:会長\n樫田　博史（近畿大学　消化器内科） \n会期\n平成26年10月5日（日） \n会場\n東京ビッグサイト 会議棟7Ｆ 国際会議場 \n定員\n1\,000名 \n受講料\n10\,000円 \nお問い合わせ先\n〒221-0052　横浜市神奈川区栄町5-1　YCS５階\n（株）相鉄エージェンシー・コンベンション課\n日本消化器内視鏡学会\n第36回重点卒後教育セミナー事務局\nTel：045-440-1270　Fax：045-440-1271\nE-mail：juuten@soag.co.jp \nプログラム\n\n\n\n時間\n演題名\n講師氏名 ・所属\n司会者氏名 ・所属\n\n\n10：00\n開会挨拶\n会長\n樫田　博史（近畿大学　消化器内科）\n卒後教育委員会　担当理事\n高橋　信一（杏林大学医学部　第３内科）\n\n\n \n【第１部】大腸腫瘍の診断とfollow-upのコツ\n\n\n10：10\n大腸腫瘍の検出とサーベイランス\n松田　尚久\n（国立がん研究センター中央病院　消化管内視鏡科）\n樫田　博史\n（近畿大学　消化器内科）\n\n\n大腸腫瘍の精密診断\n寺井　毅\n（寺井クリニック）\n\n\n大腸鋸歯状病変の内視鏡診断と治療方針\n\n斎藤　彰一\n（東京慈恵会医科大学\n　内視鏡科）\n\n\n\nポリポーシス患者の管理のコツ\n石川　秀樹\n（京都府立医科大学）\n\n\n12：10\n休憩\n\n\n12：30\nランチョンセミナー\n小腸腫瘍の診断とfollow-upのコツ\n藤森　俊二\n（日本医科大学　消化器内科）\n田中　信治\n（広島大学　内視鏡診療科）\n\n\n13：30\n休憩\n\n\n13：40\n【第２部】炎症性腸疾患の診断とfollow-upのコツ\n\n\n潰瘍性大腸炎：最新の治療と内視鏡による評価（colitic cancerを含めて）\n\n中村　志郎\n（兵庫医科大学\n　内科学下部消化管科）\n\n\n緒方　晴彦\n（慶應義塾大学病院\n　内視鏡センター）\n\n\n\nクローン病：最新の治療と内視鏡による評価\n\n大塚　和朗\n（東京医科歯科大学\n　光学医療診療部）\n\n\n\nベーチェット病・単純性潰瘍の内視鏡診断と最新の治療\n\n松本　主之\n（岩手医科大学\n消化器内科消化管分野）\n\n\n\nCollagenous colitis\, NSAIDs潰瘍の内視鏡診断\n\n平田　一郎\n（藤田保健衛生大学医学部\n　消化管内科学講座）\n\n\n\n15：40\n閉講式\n卒後教育委員会　委員長\n田中　信治（広島大学　内視鏡診療科）
URL:https://www.jges.net/event/2022-54031
LOCATION:東京ビッグサイト\, 有明3-11-1\, 江東区\, 東京都\, 135-0063\, 日本
CATEGORIES:重点卒後教育セミナー
END:VEVENT
END:VCALENDAR