BEGIN:VCALENDAR
VERSION:2.0
PRODID:-//日本消化器内視鏡学会 - ECPv6.10.1.1//NONSGML v1.0//EN
CALSCALE:GREGORIAN
METHOD:PUBLISH
X-WR-CALNAME:日本消化器内視鏡学会
X-ORIGINAL-URL:https://www.jges.net
X-WR-CALDESC:日本消化器内視鏡学会 のイベント
REFRESH-INTERVAL;VALUE=DURATION:PT1H
X-Robots-Tag:noindex
X-PUBLISHED-TTL:PT1H
BEGIN:VTIMEZONE
TZID:Asia/Tokyo
BEGIN:STANDARD
TZOFFSETFROM:+0900
TZOFFSETTO:+0900
TZNAME:JST
DTSTART:20150101T000000
END:STANDARD
END:VTIMEZONE
BEGIN:VEVENT
DTSTART;VALUE=DATE:20150529
DTEND;VALUE=DATE:20150601
DTSTAMP:20260420T003910
CREATED:20170106T061301Z
LAST-MODIFIED:20170106T061301Z
UID:2159-1432857600-1433116799@www.jges.net
SUMMARY:第89回　日本消化器内視鏡学会総会
DESCRIPTION:第89回　日本消化器内視鏡学会総会のご案内（第五報）\n\n会長： \n平田　一郎(藤田保健衛生大学　消化管内科学講座　教授) \n会期： \n平成27年5月29日（金）～31日（日） \n会場： \n名古屋国際会議場\n〒456-0036　名古屋市熱田区熱田西町1番1号　TEL：052-683-7711\nhttp://www.nagoya-congress-center.jp/access/index.html \n学会ホームページ： \nhttps://www.congre.co.jp/jges89/ \n\n抄録専用Webサイト:\nhttps://confit.atlas.jp/guide/event/jges89/top\n \nメインテーマ\n内視鏡が切り拓く明日の医療\nEndoscopy Advancing Medicine into the Future\n \nこの度「第89回日本消化器内視鏡学会総会」の会長を拝命いたし大変光栄に存じますとともに責任の重さも感じております。\n本総会は2015年5月29日（金）～31日（日）に名古屋国際会議場において開催される運びとなっております。\n　総会開催にあたり、メインテーマを「内視鏡が切り拓く明日の医療」といたしました。消化器領域における内視鏡は現在まで消化器病診療に多大な影響を及ぼし、それによって疾患概念や診療のあり方が大きく変わった疾患も少なからずあります。今後、我々が内視鏡を通じて明日の医療（病因解明、診断、治療、予防など）をどのように切り拓き変えていけるのかといった点を総会で論じていきたいという意味がこのメインテーマに込められています。従いまして、主題は「—–の現状（課題）と展望（将来展望）」といったタイトルが多くなり、鼻につくかもしれません。しかし、これに関しては現在の事ばかり論じても発展性が無く、現在の問題点や今後の課題を抽出した上で、それらを将来どのようにしていくのかといったビジョンが示されることが望ましいとの考えに基づいています。\n　また、内視鏡の安全性に関して抗血栓薬服用者の内視鏡検査や鎮静に関するガイドラインなどが提唱されていますが、これらの検証も適宜行われるべきと考え主題として取り上げていく予定です。加えて、超高齢者に対する内視鏡診療の適応や安全性に関する検討も今後益々重要となるでしょう。本総会では、実地医家の先生方も出来るだけ発表や討論に参加して戴き安全かつ有用な消化器内視鏡診療を広い視点で考えていくべきであると思います。従ってプログラムでは、それらに関するテーマを実地医家の先生方が参加しやすい土曜日から日曜日にかけて企画構成する予定にしております。\n　さらに、各学会においてグローバリゼーションが求められていますので、international symposium、外国の著名な内視鏡医による教育講演、またアジアのDrを中心としたinternational session\, consensus meetingなどを企画しています。\n　かつて、関東の偉い先生が「箱根の関所から西は文化の果てるところ」といわれました。また、関西の先生達は名古屋を素通りしてしまう事が多いと聞きます。名古屋（東海地区）には天下人を3人も出したすばらしい伝統と文化があります。我々も、総会が実りあるものとなるよう医局をあげて鋭意準備を進めております。どうか、先生方の多数のご参加をお願い申しあげます。\n　末筆ではございますが、先生方の益々のご活躍とご健勝をお祈り申しあげます。 \n\n  \n\n第89回　日本消化器内視鏡学会総会プログラム（案）\n【理事長講演】\n5月29日（金）　第1会場（1号館2F　センチュリーホール）13：10～13：50\n日本消化器内視鏡学会の課題と今後求められる方向性\n　演者：田尻　久雄（東京慈恵会医科大学　先進内視鏡治療研究講座）\n　司会：藤田　力也（医療法人社団　三喜会　理事長） \n【会長講演】\n5月30日（土）　第1会場（1号館2F　センチュリーホール）13：05～13：50\n「炎症と腫瘍を内視する」\n　演者：平田　一郎（藤田保健衛生大学　消化管内科）\n　司会：中野　浩　（豊田地域医療センター　顧問） \n【特別講演1】\n5月30日（土）　第1会場（1号館2F　センチュリーホール）9：50～10：35\n「はやぶさ」で実証された、往復の宇宙飛行がかなえる、太陽系大航海時代\n　　演者：川口淳一郎（独立行政法人　宇宙航空研究開発機構　宇宙科学研究所）\n　　司会：寺野　彰　（獨協学園　理事長） \n【特別講演2】\n5月30日（土）　第1会場（1号館2F　センチュリーホール）10：40～11：25\n「政治の最重要課題としての医療」\n　　演者：小松　裕　（衆議院議員）\n　　司会：上西　紀夫（公立昭和病院　院長） \n【Educational Lecture1】\n2015年5月29日（金）　第1会場（1号館2F　センチュリーホール）10：40～11：25\n1．Leading Women to become Leaders in Gastrointestinal Endoscopy\n　　演者：Colleen M. Schmitt（ASGE　会長）\n　　司会：田尻　久雄（東京慈恵会医科大学　先進内視鏡治療研究講座） \n【Educational Lecture2】\n2015年5月31日（日）　第1会場（1号館2F　センチュリーホール）10：40～11：25\n2．ERCP in surgically altered anatomy: techniques and results\n　　演者：Lars Aabakken（ESGE　次期会長）\n　　司会：北野　正剛（大分大学　学長） \n【Educational Lecture3】\n2015年5月29日（金）　第1会場（1号館2F　センチュリーホール）14：00～14：45\n3．Advanced endoscopic imaging for enhanced detection and characterization\n　　of colon polyps and IBD\n　　演者：Helmut Neumann（University of Erlangen-Nuremberg）\n　　司会：平田　一郎（藤田保健衛生大学　消化管内科） \n【教育講演1】\n5月29日（金）　第1会場（1号館2F　センチュリーホール）9：50～10：35\n内視鏡医に必要な病理知識\n　　演者：藤盛　孝博（医療法人社団神鋼会　神鋼病院　病理診断センター）\n　　司会：飯田　三雄（公立学校共済組合　九州中央病院　院長） \n【教育講演2】\n5月29日（金）　第1会場（1号館2F　センチュリーホール）9：00～9：45\n内視鏡と分子生物学\n　　演者：千葉　勉　（京都大学大学院　消化器内科学）\n　　司会：菅野健太郎（自治医科大学　名誉教授） \n【教育講演3】\n5月29日（金）　第1会場（1号館2F　センチュリーホール）14：50～15：35\n好酸球性消化管疾患\n　　演者：木下　芳一（島根大学　第二内科）\n　　司会：中澤　三郎（山下病院　名誉院長） \n【教育講演4】\n5月30日（土）　第1会場（1号館2F　センチュリーホール）9：00～9：45\nロボット支援手術の現状と未来\n　　演者：宇山　一朗（藤田保健衛生大学　上部消化管外科）\n　　司会：谷川　允彦（谷川記念病院　院長） \n【教育講演5】\n5月31日（日）　第1会場（1号館2F　センチュリーホール）9：00～9：45\nIBD内視鏡診療の課題と未来\n　　演者：松井　敏幸（福岡大学筑紫病院　消化器内科）\n　　司会：日比　紀文（北里研究所病院　炎症性腸疾患先進治療センター） \n【教育講演6】\n5月31日（日）　第1会場（1号館2F　センチュリーホール）9：50～10：35\n拡大内視鏡の現状と未来\n　　演者：工藤　進英（昭和大学横浜市北部病院　消化器センター）\n　　司会：吉田　茂昭（青森県立中央病院　院長） \n【特別企画（パネルディスカッション）】\n5月29日（金）　第2会場（4号館1F　白鳥ホール（北））14：30～16：30\nSS　臨床研究と出版の倫理　－内視鏡学会はどうあるべきか－\n　　司会：坂本　長逸（日本医科大学　消化器内科）\n　　　　　三浦総一郎（防衛医科大学校　学校長） \n【The 4th JGES－ASGE Joint Symposium】\n5月30日（土）　第5会場（1号館4F　レセプションホール（東））9：00～11：30\nTraining system for gastrointestinal endoscopist\n　　司会：Colleen M. Schmitt（ASGE 会長）\n　　　　　峯　徹哉（東海大学医学部　消化器内科）\n　　日本側演者：岡　　政志（埼玉医科大学　消化器内科・肝臓内科）\n　　　　　　　　田中　聖人（京都第二赤十字病院　消化器内科）\n　　　　　　　　玉井　尚人（東京慈恵会医科大学　内視鏡科）\n　　　　　　　　南　ひとみ（長崎大学　消化器内科）\n　　ASGE側演者：John A. Martin（Medicine and Surgery\, Northwestern University\n　　　　　　　　　　　　　　　　　Feinberg School of Medicine\, USA）\n　　　　　　　　 Norio Fukami（Division of Gastroenterology\, University of\n　　　　　　　　　　　　　　　　Colorado Denver\, USA） \n【The 8th JGES－ESGE Joint Symposium】\n5月30日（土）　第5会場（1号館4F　レセプションホール（東））14：00～16：30\nDiagnostic collaboration with pathologist\n　　司会：Lars Aabakken（ESGE次期会長）\n　　　　　山本　博徳（自治医科大学　消化器内科）\n　　演者：郷田　憲一（東京慈恵会医科大学　内視鏡科）\n　　　　　上堂　文也（大阪府立成人病センター　消化管内科）\n　　　　　松田　尚久（国立がん研究センター中央病院　消化管内視鏡科）\n　　　　　落合　淳志（国立がん研究センター東病院　臨床開発センター臨床腫瘍病理\n　　　　　　　　　　　分野）\n　　　　　Michal F. Kaminski（Department of Gastroenterological Oncology\n　　　　　　　　　　　　　　　The Maria Sklodowska-Curie Memorial Cancer\n　　　　　　　　　　　　　　　Center and Institute of Oncology Warsaw\,\n　　　　　　　　　　　　　　　Poland）\n　　　　　Roos Pouw（Department of Medicine\, AMC\, The Netherlands）\n　　　　　Ricardo Fonseca（Instituto Português de Oncologia de Lisboa\,\n　　　　　　　　　　　　　　Lisbon\, Portugal） \n【International Video Session1】\n5月29日（金）　第5会場（1号館4F　レセプションホール（東））9：00～11：30\nIV01．Advances and education of endoscopic diagnosis and treatment-GI tract-\n　　司　　会：後藤　秀実（名古屋大学大学院　消化器内科学）\n　　　　　　　小野　裕之（県立静岡がんセンター　内視鏡科）\n　　コメンテーター：Norio Fukami（ Division of Gastroenterology\, University\n　　　　　　　　　　　　　　　　　　of Colorado Denver\, USA） \n【International Video Session2】\n5月29日（金）　第4会場（3号館3F　国際会議室）14：00～16：30\nIV02．Advances and education of endoscopic diagnosis and treatment-biliary\n　　　tract\, pancreas-\n　　司会：山雄　健次（愛知県がんセンター中央病院　消化器内科）\n　　　　　糸井　隆夫（東京医科大学　消化器内科）\n　　コメンテーター：John A. Martin（ Medicine and Surgery\, Northwestern University\n　　　　　　　　　　　　　　　　　　Feinberg School of Medicine\, USA） \n【International Consensus Meeting】\n5月31日（日）　第5会場（1号館4F　レセプションホール（東））9：00～11：30\nIC．Revaluation of Classification of Gastritis\n　　司会：春間　賢　（川崎医科大学　消化管内科）\n　　　　　一瀬　雅夫（和歌山県立医科大学　第二内科） \n【JGES Core Session1（パネルディスカッション）】\n5月29日（金）　第2会場（4号館1F　白鳥ホール（北））9：00～11：30\nCS01．上部消化管におけるadvanced diagnostic endoscopy(ADE):\n　　　　上部消化管IEEの課題と将来展望\n　　司会：井上　晴洋（昭和大学江東豊洲病院　消化器センター）\n　　　　　八尾　建史（福岡大学筑紫病院　内視鏡部） \n【JGES Core Session2（パネルディスカッション）】\n5月30日（土）　第2会場（4号館1F　白鳥ホール（北））9：00～11：30\nCS02．下部消化管におけるadvanced diagnostic endoscopy(ADE):\n　　　　大腸腫瘍IEEの課題と将来展望\n　　司会：田中　信治（広島大学　内視鏡診療科）\n　　　　　佐野　寧　（佐野病院　院長） \n【JGES Core Session3（パネルディスカッション）】\n5月30日（土）　第2会場（4号館1F　白鳥ホール（北））14：00～16：30\nCS03．胆膵におけるInterventional EUS: 超音波内視鏡下瘻孔形成術の現状と問題点\n　　司会：藤田　直孝（みやぎ健診プラザ　副所長）\n　　　　　入澤　篤志（福島県立医科大学会津医療センター　消化器内科） \n【シンポジウム1】\n5月29日（金）　第7会場（1号館4F　会議室141＋142）14：00～16：30\nS01．感染性腸炎の内視鏡診断\n　　司会：大川　清孝（大阪市立十三市民病院　院長）\n　　　　　清水　誠治（ＪＲ大阪鉄道病院　消化器内科） \n【シンポジウム2】\n5月31日（日）　第7会場（1号館4F　会議室141＋142）9：00～11：30\nS02．薬剤性消化管傷害の内視鏡診断\n　　司会：荒川　哲男（大阪市立大学大学院　消化器内科学）\n　　　　　平石　秀幸（獨協医科大学　消化器内科） \n【シンポジウム3】\n5月30日（土）　第7会場（1号館4F　会議室141＋142）9：00～11：30\nS03．H.pylori未感染および除菌後胃癌の診断治療における課題と対策\n　　司会：上村　直実（国立国際医療研究センター国府台病院　院長）\n　　　　　加藤　元嗣（北海道大学　光学医療診療部） \n【シンポジウム4】\n5月31日（日）　第6会場（1号館4F　レセプションホール（西））13：10～15：40\nS04．ERCP関連手技偶発症の現状と対策\n　　司会：田中　雅夫（九州大学大学院　臨床・腫瘍外科学）\n　　　　　安田健治朗（京都第二赤十字病院　消化器内科） \n【ビデオシンポジウム1】\n5月29日（金）　第3会場（4号館1F　白鳥ホール（南））14：00～16：30\nVS01．胃・十二指腸腫瘍に対するEMR/ESDの課題と将来展望\n　　司会：豊永　高史（神戸大学　光学医療診療部）\n　　　　　上堂　文也（大阪府立成人病センター　消化管内科） \n【ビデオシンポジウム2】\n5月30日（土）　第7会場（1号館4F　会議室141＋142）14：00～16：30\nVS02．直腸肛門部腫瘍の治療選択－内科と外科の接点\n　　司会：前田耕太郎（藤田保健衛生大学　下部消化管外科）\n　　　　　矢作　直久（慶應義塾大学　腫瘍センター） \n【パネルディスカッション1】\n5月31日（日）　第3会場（4号館1F　白鳥ホール（南））13：10～15：40\nPD01．内視鏡診療における鎮静に関するガイドラインを検証する\n　　司会：小原　勝敏（福島県立医科大学　内視鏡診療部）\n　　　　　杉山　政則（杏林大学　消化器・一般外科） \n【パネルディスカッション2】\n5月30日（土）　第1会場（1号館2F　センチュリーホール）14：00～16：30\nPD02．抗血栓薬服用者に対する消化器内視鏡診療ガイドラインの検証\n　　司会：芳野　純治（藤田保健衛生大学坂文種報德會病院　消化器内科）\n　　　　　藤本　一眞（佐賀大学　消化器内科） \n【パネルディスカッション3】\n5月30日（土）　第4会場（3号館3F　国際会議室）9：00～11：30\nPD03．バレット食道癌の内視鏡診断の現状と将来展望\n　　司会：門馬久美子（都立駒込病院　内視鏡科）\n　　　　　小山　恒男（佐久医療センター　内視鏡内科） \n【パネルディスカッション4】\n5月30日（土）　第6会場（1号館4F　レセプションホール（西））14：00～16：30\nPD04．超高齢者（85歳以上）における消化管内視鏡診療のあり方\n　　司会：高橋　信一（杏林大学　第三内科）\n　　　　　赤松　泰次（長野県立須坂病院　内科） \n【パネルディスカッション5】\n5月30日（土）　第6会場（1号館4F　レセプションホール（西））9：00～11：30\nPD05．超高齢者（85歳以上）の総胆管結石症に対する内視鏡治療\n　　司会：五十嵐良典（東邦大学医療センター大森病院　消化器内科）\n　　　　　良沢　昭銘（埼玉医科大学国際医療センター　消化器内科） \n【パネルディスカッション6】\n5月29日（金）　第3会場（4号館1F　白鳥ホール（南））9：00～11：30\nPD06．大腸T1(SM)癌に対する内視鏡治療の課題と将来展望\n　　司　　会：樫田　博史（近畿大学　消化器内科）\n　　　　　　　斎藤　豊　（国立がん研究センター中央病院　内視鏡科）\n　　基調講演：田中　信治（広島大学　内視鏡診療科） \n【パネルディスカッション7】\n5月30日（土）　第4会場（3号館3F　国際会議室）14：00～16：30\nPD07．IBD 関連消化管癌に対する内視鏡診療の課題と将来展望\n　　司　　会：岩男　泰（慶應義塾大学　予防医療センター）\n　　　　　　　味岡　洋一（新潟大学大学院　分子・診断病理学）\n　　基調講演：風間　伸介（東京大学大学院　腫瘍外科学） \n【ワークショップ1】\n5月29日（金）　第6会場（1号館4F　レセプションホール（西））14：00～16：30\nW01．内視鏡を用いた分子生物学的手法による病態解明\n　　司会：東　　健　（神戸大学大学院　消化器内科学）\n　　　　　柴田　知行（藤田保健衛生大学　消化管内科） \n【ワークショップ2】\n5月31日（日）　第7会場（1号館4F　会議室141＋142）13：10～15：40\nW02．臨床応用に向けた次世代消化器内視鏡とその周辺機器開発の現況\n　　司会：永尾　重昭（防衛医科大学校　光学医療診療部）\n　　　　　飯石　浩康（大阪府立成人病センター　消化管内科） \n【ワークショップ3】\n5月31日（日）　第2会場（4号館1F　白鳥ホール（北））13：10～15：40\nW03．実地医家における内視鏡診療の現状と問題点への対策\n　　司会：多田　正大（多田消化器クリニック　院長）\n　　　　　河合　隆　（東京医科大学　内視鏡センター） \n【ワークショップ4】\n5月29日（金）　第8会場（4号館3F　会議室431＋432）9：00～11：30\nW04．消化管機能異常に対する内視鏡の役割\n　　司会：三輪　洋人（兵庫医科大学　内科学　消化管科）\n　　　　　中島　淳　（横浜市立大学大学院　肝胆膵消化器病学） \n【ワークショップ5】\n5月30日（土）　第8会場（4号館3F　会議室431＋432）14：00～16：30\nW05．LECSの現状と将来展望\n　　司　　会：比企　直樹（がん研究会有明病院　消化器センター）\n　　　　　　　藤城　光弘（東京大学　光学医療診療部）\n　　特別発言：瀬戸　泰之（東京大学　消化管外科学） \n【ワークショップ6】\n5月29日（金）　第6会場（1号館4F　レセプションホール（西））9：00～11：30\nW06．カプセル内視鏡の現状と将来展望\n　　司会：樋口　和秀（大阪医科大学　第二内科）\n　　　　　中村　哲也（獨協医科大学　医療情報センター） \n【ワークショップ7】\n5月31日（日）　第4会場（3号館3F　国際会議室）13：10～15：40\nW07．希少難治性消化管疾患における内視鏡の役割\n　　司会：城　　卓志（名古屋市立大学大学院　消化器・代謝内科学）\n　　　　　渡辺　　守（東京医科歯科大学　消化器内科） \n【ワークショップ8】\n5月31日（日）　第2会場（4号館1F　白鳥ホール（北））9：00～11：30\nW08．消化管出血(非静脈瘤性)における診断・治療の現状と将来展望\n　　司会：屋嘉比康治（埼玉医科大学総合医療センター　消化器・肝臓内科）\n　　　　　福田　眞作（弘前大学　消化器血液内科） \n【ワークショップ9】\n5月31日（日）　第8会場（4号館3F　会議室431＋432）9：00～11：30\nW09．消化管狭窄に対するステント治療の課題と将来展望\n　　司会：斉田　芳久（東邦大学医療センター大橋病院　外科）\n　　　　　伊佐山浩通（東京大学大学院　消化器内科学） \n【ワークショップ10】\n5月31日（日）　第4会場（3号館3F　国際会議室）9：00～11：30\nW10．小腸疾患の内視鏡診断と治療の新展開\n　　司会：松本　主之（岩手医科大学　消化器内科消化管分野）\n　　　　　大宮　直木（藤田保健衛生大学　消化管内科） \n \n【ワークショップ11】\n5月29日（金）　第7会場（1号館4F　会議室141＋142）9：00～11：30\nW11．IBD治療戦略における内視鏡の役割\n　　司会：鈴木　康夫（東邦大学医療センター佐倉病院　消化器内科）\n　　緒方　晴彦（慶應義塾大学　内視鏡センター） \n【ワークショップ12】\n5月29日（金）　第8会場（4号館3F　会議室431＋432）14：00～16：30\nW12．大腸鋸歯状病変の内視鏡診断と取扱い\n　　司　　会：鶴田　修　（久留米大学　消化器病センター）\n　　　　　　　山野　泰穂（秋田赤十字病院　消化器病センター）\n　　基調講演：菅井　有　（岩手医科大学　医学部　病理診断学講座） \n【ワークショップ13】\n5月31日（日）　第6会場（1号館4F　レセプションホール（西））9：00～11：30\nW13．膵胆道疾患における超音波内視鏡診断の新展開\n　　司会：廣岡　芳樹（名古屋大学　光学医療診療部）\n　　　　　北野　雅之（近畿大学　消化器内科） \n【ワークショップ14】\n5月31日（日）　第5会場（1号館4F　レセプションホール（東））13：10～15：40\nW14．IgG4関連膵胆管病変における内視鏡の役割\n　　司会：岡崎　和一（関西医科大学　内科学第三講座）\n　　　　　大原　弘隆（名古屋市立大学大学院　地域医療教育学） \n【ワークショップ15】\n5月31日（日）　第8会場（4号館3F　会議室431＋432）13：10～15：40\nW15．食道良性疾患の内視鏡診断と治療\n　　司会：草野　元康（群馬大学　光学医療診療部）\n　　　　　春日井邦夫（愛知医科大学　消化器内科） \n【ビデオワークショップ1】\n5月30日（土）　第8会場（4号館3F　会議室431＋432）9：00～11：30\nVW01．消化管静脈瘤の診断・治療の現状と将来展望－異所性静脈瘤も含む\n　　司会：國分　茂博（新百合ヶ丘総合病院\n　　　　　　　　　　　肝疾患低侵襲治療センター/ 内視鏡治療センター）\n　　　　　中村　真一（東京女子医科大学　消化器病センター） \n【ビデオワークショップ2】\n5月31日（日）　第3会場（4号館1F　白鳥ホール（南））9：00～11：30\nVW02．大腸内視鏡挿入法－困難例への対策－\n　　司会：五十嵐正広（がん研究会有明病院　内視鏡診療部）\n　　　　　松田　尚久（国立がん研究センター中央病院　消化管内視鏡科） \n【ビデオワークショップ3】\n5月29日（金）　第4会場（3号館3F　国際会議室）9：00～11：30\nVW03．胆道・膵疾患の内視鏡診断・治療における進歩\n　　司会：乾　和郎　（藤田保健衛生大学坂文種報德會病院　消化器内科）\n　　　　　植木　敏晴（福岡大学筑紫病院　消化器内科） \n【症例検討1】\n5月30日（土）　第3会場（4号館1F　白鳥ホール（南））9：00～11：30\n食道、胃、十二指腸\n　　司　　会：丹羽　康正（愛知県がんセンター中央病院内視鏡部）\n　　　　　　　丸山　保彦（ 藤枝市立総合病院　消化器内科）\n　　病理解説：八尾　隆史（順天堂大学　人体病理病態学） \n【症例検討2】\n5月30日（土）　第3会場（4号館1F　白鳥ホール（南））14：00～16：30\n小腸・大腸\n　　司　　会：斉藤　裕輔（市立旭川病院　消化器内科）\n　　　　　　　渡辺　憲治（大阪市立総合医療センター　消化器内科）\n　　病理解説：岩下　明徳（福岡大学筑紫病院　病理部） \n【症例検討3】\n5月29日（金）　第5会場（1号館4F　レセプションホール（東））14：00～16：30\n胆膵\n　　司　　会：真口　宏介（手稲渓仁会病院　消化器病センター）\n　　　　　　　長谷部　修（長野市民病院　消化器内科）\n　　病理解説：福嶋 敬宜（自治医科大学　病理学・病理診断部） \n第39回　日本消化器内視鏡学会セミナー\nテーマ： \n　消化器内視鏡診療の基礎と応用 \n会長： \n　赤松　泰次（長野県立須坂病院　内科） \n会期： \n　平成27年5月31日（日）・6月1日（月） \n会場： \n　名古屋国際会議場　センチュリーホール（第1会場） \n  \n\n第89回日本消化器内視鏡学会総会　プログラム委員（敬称略） \n \n上西　紀夫（顧問）、田尻　久雄（顧問、理事長）\n赤松　泰次、味岡　洋一、　東　健　、荒川　哲男、飯石　浩康、五十嵐良典\n一瀬　雅夫、乾　　和郎、井上　晴洋、岩間　　泰、上村　直実、宇山　一朗\n岡崎　和一、小野　裕之、小原　勝敏、小山　恒男、樫田　博史、春日井邦夫\n加藤　元嗣、北野　正剛、木下　芳一、工藤　進英、後藤　秀実、斎藤　　豊\n坂本　長逸、清水　誠治、城　　卓志、高橋　信一、田中　信治、鶴田　　修\n永尾　重昭、春間　　賢、樋口　和秀、廣岡　芳樹、藤城　光弘、藤田　直孝\n藤本　一眞、藤盛　孝博、前田耕太郎、松井　敏幸、松本　主之、三浦総一郎\n峯　　徹哉、三輪　洋人、門馬久美子、山本　博徳、芳野　純治 \n\n \n第89回総会事務局： \n　藤田保健衛生大学消化管内科学講座\n　〒470-1192　愛知県豊明市沓掛町田楽ヶ窪1-98 \n \n第89回運営事務局： \n　株式会社コングレ中部支社\n　〒460-0004　名古屋市中区新栄町2-13　栄第一生命ビルディング6階\n　TEL: 052-950-3369 FAX: 052-950-3370\n　E-mail: jges89@congre.co.jp
URL:https://www.jges.net/event/jges89
LOCATION:名古屋国際会議場\, 名古屋市熱田区熱田西町1番1号\, 名古屋市\, 〒456-0036\, Japan
CATEGORIES:総会
END:VEVENT
BEGIN:VEVENT
DTSTART;VALUE=DATE:20150531
DTEND;VALUE=DATE:20150601
DTSTAMP:20260420T003910
CREATED:20181105T083034Z
LAST-MODIFIED:20181105T083034Z
UID:15267-1433030400-1433116799@www.jges.net
SUMMARY:第2回　ヒストアクリルによる胃静脈瘤治療研究会
DESCRIPTION:代表世話人\n角谷　宏（練馬光が丘病院　消化器内科） \n当番世話人\n岩瀬　弘明（国立病院機構名古屋医療センター　消化器科） \n会期\n2015年５月31日（日）　13:10～16:00 \n会場\n名古屋国際会議場　第12会場（2号館2F　会議室222+223） \nプログラム\n\n開会の辞\n当番世話人：岩瀬　弘明　（国立病院機構名古屋医療センター　消化器科）\n\n\n主題演題\nⅠ．症例報告　13:15～14：00\n（各演題　発表6分、討論3分　合計9分） \n\n司会\n中尾　春壽（愛知医科大学　消化器内科）\n松村　雅彦（奈良県立医科大学　地域医療学講座）\n\n\n\n１．生検後の胃静脈瘤噴出性出血に対して、クリップ一次止血後ヒストアクリルRを用いた内視鏡的治療にて完全止血できた一例\n国立病院機構名古屋医療センター　消化器科 \n○龍華庸光、宇仁田慧、近藤高、田中大貴、後藤百子、水田りな子、江崎正哉、浦田登、加藤文一朗、平嶋昇、島田昌明、岩瀬弘明 \n２．硬化剤、ヒストアクリルを用いたEISにて救命できた本態性血小板増多症合併難治性食道胃静脈瘤の1例\n1）国立病院機構東名古屋病院　消化器科、2）名古屋医療センター　消化器科 \n○小林慶子1)、髙橋宏尚1)、横井美咲1)、岩瀬弘明2)、平嶋昇2)、島田昌明2) \n3.　膵尾部癌脾静脈浸潤による孤立性胃静脈瘤破裂に対しヒストアクリルRを用いた内視鏡的硬化療法にて救命した一例\n愛知医科大学　消化器内科 \n○足立和則、石井紀光、小林佑次、山本高也、大橋知彦、佐藤顕、中出幸臣、伊藤清顕、中尾春壽、米田正志 \n4.　ヒストアクリルによる内視鏡的組織接着剤注入法で治療しえた異所性静脈瘤の２例\n1）福島県立医科大学医学部　消化器・リウマチ膠原病内科学講座2）福島県立医科大学附属病院　内視鏡診療部 \n○紺野直紀1)、小原勝敏2)、引地拓人2)、高木忠之1)、 鈴木玲1)、渡辺晃1)2)、杉本充1)、菊地眸1)、 藁谷雄一1)、浅間宏之1)、高住美香1)、大平弘正1) \n５．バルーン小腸内視鏡を用いた吻合部静脈瘤に対するヒストアクリルによるEISの有用性\n岐阜大学医学部　消化器病態学 \n○井深貴士、荒木寛司、髙木結衣、吉田健作、丸田明範、高田淳、久保田全哉、 白木亮、清水雅仁 \n\nⅡ．治療経験、成績　14:00～14：40\n（各演題　発表7分、討論3分　合計10分） \n\n司会\n加藤　則廣（岐阜市民病院消化器内科）\n村島　直哉（三宿病院　消化器科）\n\n\n\n6.　当院におけるヒストアクリルによる胃静脈瘤治療の経験\n小倉記念病院　消化器内科 \n○白井保之、中村綾子、谷本治子、牟田口真、石垣賀子、青山浩司、吉田智治 \n7.　当院でのヒストアクリルを用いた使用経験について\n1）奈良県立医科大学　第三内科、2）中央内視鏡・超音波部、3）地域医療学講座 \n○上嶋昌和1）、梅本典江1）、浪崎、正1）、高谷広章1）、美登路昭1）、吉治仁志1）、福井博1）、瓦谷英人2）、山尾純一2）、松村雅彦3） \n8.　胃静脈瘤に対するヒストアクリルを使用した内視鏡的塞栓術後の合併症の検討\n札幌厚生病院　第3消化器科 \n○山口将功、佐藤隆啓、木村睦海、荒川智宏、中島知明、桑田靖昭、小関至、髭修平、大村卓味、狩野吉康 \n９．孤立性胃静脈瘤に対するヒストアクリルを用いた予防的内視鏡治療\n国立病院機構名古屋医療センター　消化器科 \n○江崎正哉、宇仁田慧、近藤高、田中大貴、後藤百子、水田りな子、浦田登、加藤文一朗、龍華庸光、平嶋昇、島田昌明、岩瀬弘明 \nシンポジウム　14:40～16：00 \n胃静脈瘤に対するヒストアクリルRを用いた内視鏡的塞栓療法 －手技の標準化を目指して－\n（各演題　発表10分、討論2分　合計12分：　総合討論　20分：総合計80分） \n\n司会\n小原　勝敏（福島県立医科大学附属病院　内視鏡診療部）\n岩瀬　弘明（国立病院機構名古屋医療センター　消化器科）\n\n１．孤立性胃静脈瘤に対するヒストアクリルによる内視鏡的組織接着剤注入法（HA/EO併用法）の実際\n1）福島県立医科大学附属病院　内視鏡診療部、2）消化器・リウマチ膠原病内科 \n○渡辺　晃1)2)、小原勝敏2)、引地拓人1) \n２．当科におけるヒストアクリルを用いたEIS\n岐阜大学医学部附属病院光学医療診療部　消化器内科 \n○荒木寛司、井深貴士、高木結衣、吉田健作、丸田明範、小木曽英介、今井健二、高井光治、白木亮、清水雅仁 \n３．胃静脈瘤に対するヒストアクリルを使用した内視鏡的塞栓術\n札幌厚生病院　第3消化器科 \n○佐藤隆啓、山口将功、木村睦海、荒川智宏、中島知明、桑田靖昭、小関至、髭修平、大村卓味、狩野吉康 \n4.　胃静脈瘤（Lg-f）に対する内視鏡的塞栓療法の基本手技と治療成績\n東京女子医科大学消化器病センター \n○中村真一、岸野真衣子、山本浩隆、小林亜也子、山本果奈、白鳥敬子 \n5.　孤立性胃静脈瘤に対するヒストアクリルRを用いた内視鏡的塞栓療法\n国立病院機構名古屋医療センター　消化器科/p> \n○岩瀬弘明、島田昌明、平嶋昇、龍華庸光 \n開会の辞\n代表世話人：角谷　宏（練馬光が丘病院消化器内科部長） \n問合せ先・事務局\n  〒460-0001 名古屋市中区三の丸4-1-1\n  国立病院機構名古屋医療センター　消化器科\n  岩瀬　弘明\n  TEL：052-951-1111\n  Fax：052-951-0664\n  E-mail：iwaseh@nnh.hosp.go.jp
URL:https://www.jges.net/event/2018-15267
LOCATION:名古屋国際会議場\, 名古屋市熱田区熱田西町1番1号\, 名古屋市\, 〒456-0036\, Japan
CATEGORIES:附置研究会
END:VEVENT
BEGIN:VEVENT
DTSTART;TZID=Asia/Tokyo:20150531T090000
DTEND;TZID=Asia/Tokyo:20150531T113000
DTSTAMP:20260420T003910
CREATED:20181108T053128Z
LAST-MODIFIED:20181108T053128Z
UID:15347-1433062800-1433071800@www.jges.net
SUMMARY:第3回　上部消化管内視鏡検診の科学的検証と標準化に関する研究会
DESCRIPTION:代表世話人\n井上　和彦（川崎医科大学総合臨床医学） \n当番世話人\n河合　隆（東京医科大学病院内視鏡センター） \n会期\n2015年5月31日（日）9：00～11：30 \n会場\n名古屋国際会議場　会議室221 \n  \n開会の辞\n代表世話人：井上　和彦（川崎医科大学総合臨床医学） \n主題１：内視鏡所見とH.pylori感染（9:05-9:45）\n　座長：兒玉　雅明（大分大学医学部消化器内科） \n１．背景粘膜所見のピロリ血清抗体価別の検討―井上のチェックシートを用いて―　\nパナソニック健康保険組合健康管理センター　消化器検診科\n○辰巳嘉英、原田明子、松本貴弘、谷知子、西田博 \n２．Hp感染状況とリスク評価を可能にする簡便な胃炎記載方法\n加古川西市民病院\n○寺尾秀一、山城研三、西澤昭彦、鈴木志保、田村勇、古松恵介、久禮　泉、當銘成友、孝橋道敬、長谷川章 \n３．胃炎の京都分類と内視鏡ABC分類との対比からみた内視鏡的胃がんリスク評価\n1) 乾内科クリニック、2) しらかわ診療所\n○乾　正幸1)、乾　純和1)、大和田進1)、近藤裕子1)、蘇原直人2) \n４．対策型内視鏡胃がん検診における胃炎診断の現状と課題\n静岡赤十字病院経鼻内視鏡センター\n○川田和昭 \n５．当院の胃内視鏡検診における胃炎の取り扱い\n1) NTT東日本札幌病院　消化器内科、2) 北海道大学大学院医学研究科　がん予防内科学\n3) NTT東日本札幌病院　ドックセンター、4) 北海道大学病院　光学医療診療部\n○吉井新二１）、間部克裕1)、綿野敬子3)、松本美櫻1)、加藤元嗣4) \nモーニングセミナー（09:50-10:20）\n（共催：大塚製薬株式会社、栄研化学株式会社） \n胃内視鏡検診の有効性評価と実行性\n　座長：井上　和彦（川崎医科大学総合臨床医学）\n○濱島　ちさと（独立行政法人　国立がん研究センターがん予防・検診研究センター　検診研究部） \n主題２：対策型内視鏡検診における現状と問題点（10:20-11:25）\n　司会：井上　和彦（川崎医科大学総合臨床医学）\n　　　　河合　隆（東京医科大学病院内視鏡センター） \n  \n（基調講演） \n１．対策型胃がん検診における内視鏡検診の有用性\n―胃がん検診ガイドライン2014年度版を検証する―\n1) 前橋市医師会　2) 群馬県健康づくり財団　3) 太田市医師会\n○萩原廣明1)、茂木文孝2)、関口利和3)、下田隆也1)、山下由起子1)、家崎桂吾1) \n２．ABC分類を活用したリスク対応型胃がん内視鏡検診の現状と今後の課題\n―越谷市の検診成績より―\n越谷市医師会　胃がん大腸がん検診委員会\n○藤田安幸、朝倉隆晴、石川茂正、市川純二、岡茂樹、清松瑤一郎、境秀博、相良哲郎、原直、宮本繁方、矢部幸寛 \n３．内視鏡検診における標準化と問題点　―新潟市の胃がん検診の現状から―\n1) 新潟県立がんセンター新潟病院・内科、2) 新新潟市医師会胃がん検診検討委員会\n○加藤俊幸1)2)、成澤林太郎1)2)、小越和栄1)2) \n  \n（ディスカッション） \n\n濱島　ちさと（独立行政法人　国立がん研究センターがん予防・検診研究センター　検診研究部）\n萩原　廣明（前橋市医師会）\n藤田　安幸（越谷市医師会）\n加藤　俊幸（新潟市医師会胃がん検診検討委員会）\n\n閉会の辞\n　当番世話人：河合　隆（東京医科大学病院内視鏡センター） \n\n問い合せ先\n〒160-0023\n新宿区西新宿6-7-1　東京医科大学病院内視鏡センター\nTel：03-3342-6111\nFax：03-3347-2303\nE-mail：t-kawai@tokyo-med.ac.jp
URL:https://www.jges.net/event/15347
LOCATION:名古屋国際会議場\, 名古屋市熱田区熱田西町1番1号\, 名古屋市\, 〒456-0036\, Japan
CATEGORIES:附置研究会
END:VEVENT
BEGIN:VEVENT
DTSTART;TZID=Asia/Tokyo:20150531T090000
DTEND;TZID=Asia/Tokyo:20150531T211000
DTSTAMP:20260420T003910
CREATED:20181105T083524Z
LAST-MODIFIED:20181105T083524Z
UID:15274-1433062800-1433106600@www.jges.net
SUMMARY:大腸ステント安全手技研究会　研究成果報告
DESCRIPTION:会　期\n2015年5月30日（土）9：00～9：10 \n会　場\n名古屋国際会議場　第8会場（4号館3F 会議室431+432） \n司　会\n斉田　芳久（邦大学医療センター大橋病院　外科）\n伊佐山　浩通（東京大学大学院　消化器内科学） \n報　告\n斉田　芳久（東邦大学医療センター大橋病院　外科）
URL:https://www.jges.net/event/2018-15274
LOCATION:名古屋国際会議場\, 名古屋市熱田区熱田西町1番1号\, 名古屋市\, 〒456-0036\, Japan
CATEGORIES:附置研究会
END:VEVENT
BEGIN:VEVENT
DTSTART;TZID=Asia/Tokyo:20150531T131000
DTEND;TZID=Asia/Tokyo:20150531T160000
DTSTAMP:20260420T003910
CREATED:20181105T081520Z
LAST-MODIFIED:20181105T081520Z
UID:15259-1433077800-1433088000@www.jges.net
SUMMARY:第1回　女性内視鏡医のキャリアサポートを目指した教育研修体制確立に関する研究会
DESCRIPTION:代表世話人\n原田　直彦（国立病院機構九州医療センター　消化器内科） \n当番世話人\n原田　直彦（国立病院機構九州医療センター　消化器内科） \n会期\n2015年5月31日（日）13:10～16：00 \n会場\n名古屋国際会議場　第10会場　（2号館3階　会議室232+233） \n主題\n女性内視鏡医のキャリアサポートを目指した教育研修体制確立に向けて \n1. 開会の辞原田　直彦（国立病院機構九州医療センター消化器内科） \n2. 特別発言白鳥　敬子（東京女子医科大学　消化器内科） \n3. 演題（発表6分、質疑4分） \n司会\n平岡　佐規子（岡山大学　消化器内科）\n原田　直彦（国立病院機構九州医療センター消化器内科）\n\n\n①女性内視鏡医の復職支援の取り組み－女性医師再教育センターの現状－\n講演：中村　真一（東京女子医科大学消化器病センター）\n\n\n②女性内視鏡医の現状とそのとりまく環境\n講演：志賀　典子（九州大学病態制御内科）\n\n\n③当院における女性消化器内科医への支援体制について\n講演：若原　ちか（神戸大学消化器内科）\n\n\n④ERCP関連手技における女性内視鏡医のスキルアップを目指した教育研修\n講演：戒能　美雪（山口労災病院消化器内科）\n\n\n⑤女性内視鏡医のキャリアサポートを目指した教育研修体制とは\n－健診センターにおける専門医研修の経験から－\n講演：赤羽　麻奈（公益財団法人ちば県民保健予防財団総合健診センター消化器科）\n\n\n⑥地域中核病院と都市大規模病院との連携で女性内視鏡医の専門医取得と勤務をささえる\n講演：柚木　直子（赤磐医師会病院　内科）\n\n\n⑦当院における女性内視鏡医へのキャリアサポート体制の工夫\n講演：徳永　紀子（国立病院機構九州医療センター　消化器内科）\n\n\n⑧日本医師会女性医師支援センターの取り組みについて\n講演：保坂　シゲリ（日本医師会女性医師支援センター）\n\n4. フリーディスカッション \n5. 閉会の辞\n  原田　直彦（国立病院機構九州医療センター　消化器内科） \n問合せ先\n〒810-8563 福岡市中央区地行浜1-8-1\n  国立病院機構　九州医療センター　消化器科\n  （担当者氏名）原田直彦\n  TEL：092-852-0700\n  FAX：092-847-8802\n  E-mail：haradan@kyumed.jp \n主催：日本消化器内視鏡学会、女性内視鏡医のキャリアサポートを目指した研究教育体制確立に関する研究会\n  共催：日本医師会
URL:https://www.jges.net/event/2018-15259
LOCATION:名古屋国際会議場\, 名古屋市熱田区熱田西町1番1号\, 名古屋市\, 〒456-0036\, Japan
CATEGORIES:附置研究会
END:VEVENT
BEGIN:VEVENT
DTSTART;TZID=Asia/Tokyo:20150531T131000
DTEND;TZID=Asia/Tokyo:20150531T160000
DTSTAMP:20260420T003910
CREATED:20181108T053824Z
LAST-MODIFIED:20181108T053824Z
UID:15351-1433077800-1433088000@www.jges.net
SUMMARY:第1回 大腸拡大内視鏡診断基準の統一と均てん化に向けた研究会
DESCRIPTION:代表世話人\n松田　尚久（国立がん研究センター中央病院　内視鏡科） \n当番世話人\n中村　尚志（調布外科・消化器内科クリニック）\n和田　祥城（東京医科歯科大学医学部附属病院　光学医療診療部） \n会期\n2015年5月31日（日）　13：10～16：00 \n会場\n名古屋国際会議場　第9会場(2号館3階　会議室234) \n主題\n「JNET（Japan NBI Expert Team）分類の妥当性・有用性の評価」 \n  \n1. 開会の挨拶（13:10～13:15）\n 松田　尚久（国立がん研究センター中央病院　内視鏡科） \n2. 厚労省班会議報告（13:15～13:25）\n 司会：中村　尚志（調布外科・消化器内科クリニック） \n　 大腸拡大NBI分類（JNET分類）コンセンサス\n　 講演：斎藤　豊（国立がん研究センター中央病院） \n3. 症例検討\n第一部　質的診断（13:25～13:55）\n第二部　深達度診断（13:55～15:45）\n　 司会：中村　尚志（調布外科・消化器内科クリニック）\n　 　　　和田　祥城（東京医科歯科大学医学部附属病院）\n　 コメンテーター：佐野　寧（佐野病院）\n　 　　　　　　　　池松　弘朗（国立がん研究センター東病院）\n　 　　　　　　　　田中　信治（広島大学）\n　 　　　　　　　　岡　志郎（広島大学）\n　 　　　　　　　　三澤　将史（昭和大学横浜市北部病院）\n　 　　　　　　　　中村　大樹（昭和大学横浜市北部病院）\n　 　　　　　　　　斎藤　彰一（慈恵医科大学）\n　 　　　　　　　　玉井　尚人（慈恵医科大学）\n　 　　　　　　　　鶴田　修（久留米大学）\n　 　　　　　　　　河野　弘志（聖マリア病院） \n4. 総括発言（15:45～15:55）\n吉田　茂昭（青森県立中央病院） \n5. 閉会の挨拶（15:55～16:00）\n工藤　進英（昭和大学横浜市北部病院） \n\n問合せ先\n〒113-8519\n東京都文京区湯島1-5-45\n東京医科歯科大学医学部附属病院　光学医療診療部\n和田　祥城\nTEL：03-5803-5877（内線61073）\nFAX：03-5803-0268\nE-mail：w-yoshi@mtj.biglobe.ne.jp
URL:https://www.jges.net/event/2018-15351
LOCATION:名古屋国際会議場\, 名古屋市熱田区熱田西町1番1号\, 名古屋市\, 〒456-0036\, Japan
CATEGORIES:附置研究会
END:VEVENT
BEGIN:VEVENT
DTSTART;TZID=Asia/Tokyo:20150531T131000
DTEND;TZID=Asia/Tokyo:20150531T181000
DTSTAMP:20260420T003910
CREATED:20181105T085239Z
LAST-MODIFIED:20181105T085239Z
UID:15278-1433077800-1433095800@www.jges.net
SUMMARY:第3回　超音波内視鏡下穿刺術の手技標準化に関する研究会
DESCRIPTION:代表世話人\n入澤　篤志（福島県立医科大学　会津医療センター　消化器内科学講座） \n当番世話人\n今泉　弘（北里大学　医学部　消化器内科）\n宇野　耕治（京都第二赤十字病院　消化器内科）\n伊佐山　浩通（東京大学　医学部　消化器内科） \n会期\n平成27年5月31日（日）　13:10～16:10（180分） \n会場\n第13会場（名古屋国際会議場　2号館1F　展示室211） \n代表世話人挨拶\n入澤　篤志（福島県立医科大学　会津医療センター　消化器内科） \n開会の辞　当番世話人\n伊佐山　浩通（東京大学　医学部　消化器内科） \n研究会テーマ\n超音波内視鏡下膵仮性嚢胞ドレナージ術～標準化への提言～ \n　今回のテーマは比較的なじみが深い膵仮性嚢胞のドレナージです。近年、仮性嚢胞は膵管破綻から漏出した膵液が貯留した嚢胞と、膵壊死、脂肪壊死が被胞化されたWalled-off necrosis（WON）に分けられました。本研究会ではこれらは別物として扱い、それぞれの治療戦略等を話し合って行きたいと思っています。また、WONに関してはドレナージのみでなく、引き続き内部の壊死物質を除去するNecrosectomyが施行されるので、そちらについても討論が必要だと思っております。近年発展目覚ましい超音波内視鏡下の手技ですが、標準化による、更なる手技の普及が必要な段階にきていると思います。本研究会では、それぞれのセッションで標準化に向けての提言を発表していただき、討論して行きたいと思っております。一部施設に限定した標準化にならないように、多くの先生方のご意見を頂きたいと思っております。 \nセッション１ \n\n急性膵炎後仮性嚢胞のマネージメント（13:05～13:50）\n司会\n今泉　弘（北里大学　医学部　消化器内科）\n松田　浩二（聖マリアンナ医科大学横浜市西部病院　消化器内科）\n\n\n基調講演:\n仮性嚢胞とWalled-off necrosis (WON)の病態とAtlanta分類（発表10分、質疑なし）\n講演\n北野　雅之（近畿大学　消化器内科）\n\n\n1）仮性嚢胞に対する治療戦略～適応と治療のタイミング～（発表10分、質疑5分）\n講演：岡部　義信（久留米大学　医学部　消化器内科　）\n\n\n2）仮性嚢胞に対するドレナージ術～手技の実際～（発表10分、質疑5分）\n講演：潟沼　朗生（手稲渓仁会病院　消化器センター）\n\nセッション２ \n\nWalled-off necrosis (WON)のマネージメント（13:50～14:25）\n司会\n伊佐山　浩通（東京大学　医学部　消化器内科）\n安田　一朗（帝京大学医学部附属溝口病院　消化器内科）\n\n\n3）WONに対する治療戦略～適応とStep-up approach～（発表10分、質疑5分）\n講演：石原　武（千葉大学　医学部　消化器内科）\n\n\n4）Walled-off necrosisに対するNecrosectomy～手技の実際～（発表10分、質疑5分）\n講演：河本　博文（川崎医科大学　総合内科学２）\n\nCoffee Break (14:25～14:35) \nセッション3 \n\n治療成績向上への工夫（14:35～15:25）\n司会\n宇野　耕治（京都第二赤十字病院　消化器内科）\n糸井　隆夫（東京医科大学　消化器内科）\n\n\n5）デバイスセレクション（発表10分、質疑5分）\n講演：小川　貴央（仙台市医療センター仙台オープン病院　消化器内科）\n\n\n6）術後管理とトラブルシューティング（発表10分、質疑5分）\n講演：原　和生（愛知県がんセンター中央病院　消化器内科）\n\n\n7）教育と施設への導入（発表10分、質疑5分）\n講演：良沢　昭銘（埼玉医科大学　国際医療センター　消化器内科）\n\nInterventional EUSに向けての超音波内視鏡開発～より良い手技を可能にする～\n　（各発表6分、質疑4分） \nセッション4 \n\nメーカープレゼン（15：25～15：55）\n司会\n赤星　和也（麻生飯塚病院　消化器内科）\n廣岡　芳樹（名古屋大学医学部附属病院　光学医療診療部）\n\n\n8）Interventional EUSに向けての超音波内視鏡開発の取り組み（発表6分、質疑4分）\n講演：内田　優子（オリンパス　株式会社　超音波技術開発部）\n\n\n9）新世代 超音波内視鏡システム 開発\n～Diagnostic to Therapeutic EUSを考えて～（発表6分、質疑4分）\n講演：成瀬　睦己（富士フイルム メディカル株式会社　内視鏡・超音波事業本部）\n\n\n10）PENTAX超音波内視鏡\n～処置時におけるCCD画像および超音波画像～（発表6分、質疑4分）\n講演：樽本　哲也（HOYA株式会社　PENTAXライフケア事業部　製品開発部）\n\n\n閉会の辞　当番世話人（15：55～17：00）：\n今泉　弘（北里大学　医学部　消化器内科）\n\n 
URL:https://www.jges.net/event/2018-15278
LOCATION:名古屋国際会議場\, 名古屋市熱田区熱田西町1番1号\, 名古屋市\, 〒456-0036\, Japan
CATEGORIES:附置研究会
END:VEVENT
END:VCALENDAR