BEGIN:VCALENDAR
VERSION:2.0
PRODID:-//日本消化器内視鏡学会 - ECPv6.10.1.1//NONSGML v1.0//EN
CALSCALE:GREGORIAN
METHOD:PUBLISH
X-WR-CALNAME:日本消化器内視鏡学会
X-ORIGINAL-URL:https://www.jges.net
X-WR-CALDESC:日本消化器内視鏡学会 のイベント
REFRESH-INTERVAL;VALUE=DURATION:PT1H
X-Robots-Tag:noindex
X-PUBLISHED-TTL:PT1H
BEGIN:VTIMEZONE
TZID:Asia/Tokyo
BEGIN:STANDARD
TZOFFSETFROM:+0900
TZOFFSETTO:+0900
TZNAME:JST
DTSTART:20150101T000000
END:STANDARD
END:VTIMEZONE
BEGIN:VEVENT
DTSTART;VALUE=DATE:20150711
DTEND;VALUE=DATE:20150712
DTSTAMP:20260421T181800
CREATED:20170110T092140Z
LAST-MODIFIED:20170110T092140Z
UID:2378-1436572800-1436659199@www.jges.net
SUMMARY:第155回　日本消化器内視鏡学会東北支部例会
DESCRIPTION:第155回　日本消化器内視鏡学会東北支部例会のご案内\n\n会長： \n　引地　拓人（福島県立医科大学附属病院内視鏡診療部） \n会期： \n　平成27年7月11日（土） \n会場： \n　コラッセふくしま（福島県福島市） \nテーマ： \n　東北からの発信 \nホームページ： \n　http://jges155-tohoku.umin.jp/ \n \n演題募集要項(オンライン登録)： \n\nVTRシンポジウム、一般・要望演題募集期間：\n 　平成27年2月18日(水)～3月24日(火)正午　4月21日（火）正午\n プレナリーセッション募集期間：\n 　平成27年2月18日(水)～4月14日(火)正午　4月21日（火）正午\n 演題募集を締め切りました。多数のご応募ありがとうございました。\n\n \nプログラム：\n 特別講演「若手や専門外の医師にも知ってほしい内視鏡手技の基本とコツ」 \n　　小原　勝敏（福島県立医科大学附属病院　消化器内視鏡先端医療支援講座）\n 　　入澤　篤志（福島県立医科大学会津医療センター　消化器内科学講座） \n \nランチョンセミナー「消化管治療内視鏡の最前線」 \n　　竹内　洋司（大阪府立成人病センター　消化管内科）\n 　　炭山　和毅（東京慈恵会医科大学　内視鏡科） \n \n公募内容：\n 主題１　VTRシンポジウム\n 「消化管治療内視鏡の新たな展開～東北からの発信～」 \nESD、EMR（cold/discardを含めて）、LECS/NEWS、POEM、EIS/EVLなど、消化管疾患に対する治療内視鏡の工夫や開発に関する演題を募集します。東北から全国、そして世界に発信できる発表を期待します。 \n \n主題2　プレナリーセッション \n初期研修医（1-2年目）、専攻医・専修医（3-5年目）の先生からの演題を募集します。5年目以下の先生方は、ふるってご応募ください。 \n \n一般演題 \n消化器内視鏡に関連する演題を広く募集します。 \n \n要望演題 \n下記に関する演題が複数集まった場合には、通常の一般演題とは別にワークショップとしてセッションを作ります。\n 消化管静脈瘤の内視鏡治療、Interventional EUS、穿孔・瘻孔・狭窄に対する内視鏡治療、カプセル内視鏡、PEG、胃がんリスク検診（ABC検診） \n \n【事務局】 \n〒960-1295 福島県福島市光が丘1\n 福島県立医科大学附属病院内視鏡診療部内\n 事務局長：高木　忠之（福島県立医科大学医学部消化器・リウマチ膠原病内科）\n 担当：渡辺　晃・安部　和子・五十嵐　千恵（福島県立医科大学附属病院内視鏡診療部）
URL:https://www.jges.net/event/2017-2378
LOCATION:コラッセふくしま
CATEGORIES:支部例会,東北支部
END:VEVENT
END:VCALENDAR