BEGIN:VCALENDAR
VERSION:2.0
PRODID:-//日本消化器内視鏡学会 - ECPv6.10.1.1//NONSGML v1.0//EN
CALSCALE:GREGORIAN
METHOD:PUBLISH
X-ORIGINAL-URL:https://www.jges.net
X-WR-CALDESC:日本消化器内視鏡学会 のイベント
REFRESH-INTERVAL;VALUE=DURATION:PT1H
X-Robots-Tag:noindex
X-PUBLISHED-TTL:PT1H
BEGIN:VTIMEZONE
TZID:Asia/Tokyo
BEGIN:STANDARD
TZOFFSETFROM:+0900
TZOFFSETTO:+0900
TZNAME:JST
DTSTART:20150101T000000
END:STANDARD
END:VTIMEZONE
BEGIN:VEVENT
DTSTART;VALUE=DATE:20150829
DTEND;VALUE=DATE:20150831
DTSTAMP:20260423T190208
CREATED:20170110T072750Z
LAST-MODIFIED:20170110T072750Z
UID:2333-1440806400-1440979199@www.jges.net
SUMMARY:第111回　日本消化器内視鏡学会北海道支部例会
DESCRIPTION:第111回　日本消化器内視鏡学会北海道支部例会のご案内\n\nこの度の支部例会は、第117回日本消化器病学会北海道支部例会（会長　旭川医科大学外科学講座　消化器病態外科学分野　古川　博之　先生）との合同開催になります。 \n会長：　 \n　遠藤　高夫（社会医療法人　康和会　札幌しらかば台病院） \n会期： \n　2015年（平成27年）8月29日（土）～8月30日（日） \n会場： \n　札幌コンベンションセンター\n 　〒003-0006　札幌市白石区東札幌6条1丁目1-1 \n北海道支部例会HP： \n　http://www.c-linkage.co.jp/jsge117-jges111-hokkaido/index.html \n \n演題募集： \n　2015年5月13日（水）～ 6月10日（水）正午 \n募集内容\n 　・パネルディスカッション（公募・一部指定）\n 　　テーマ：「C型肝炎の新しい治療戦略」\n 　・内視鏡教育シンポジウム（公募・一部指定）\n 　　テーマ：「拡大内視鏡はこう使う（上部・下部）」 \n \nお問い合わせ： \n　株式会社コンベンションリンケージ北海道本部\n 　〒060-0002　札幌市中央区北二条西4-1番地北海道ビル\n 　TEL：011-272-2151/FAX：011-272-2152\n 　E-mail：jsge-jges-hokkaido@c-linkage.co.jp
URL:https://www.jges.net/event/2017-2333
LOCATION:札幌コンベンションセンター\, 白石区東札幌6条1丁目1-1\, 札幌市\, 北海道\, 003-0006　\, Japan
CATEGORIES:北海道支部,支部例会
END:VEVENT
BEGIN:VEVENT
DTSTART;VALUE=DATE:20150829
DTEND;VALUE=DATE:20150831
DTSTAMP:20260423T190208
CREATED:20170201T054348Z
LAST-MODIFIED:20170201T054348Z
UID:7446-1440806400-1440979199@www.jges.net
SUMMARY:第39回　日本鉄バイオサイエンス学会学術集会
DESCRIPTION:第39回　日本鉄バイオサイエンス学会学術集会\n会長： \n\n日野 啓輔 (川崎医科大学肝胆膵内科学教室 教授)\n\n学会URL： \n\nhttp://www.convention-w.jp/jbis2015/\n\n会期： \n\n平成27年(2015年)8月29日（土）・30日（日）\n\n会場： \n\n岡山コンベンションセンター（ママカリフォーラム）\n 岡山市北区駅元町14-1\n 会場URL：http://www.mamakari.net/\n\n  \n一般演題募集期間： \n\n5月14日（木）9：00～6月18日（木）正午まで（予定）\n 演題募集ページ：http://www.convention-w.jp/jbis2015/title.html
URL:https://www.jges.net/event/2017-7446
LOCATION:岡山コンベンションセンター
CATEGORIES:他学会等
END:VEVENT
END:VCALENDAR