BEGIN:VCALENDAR
VERSION:2.0
PRODID:-//日本消化器内視鏡学会 - ECPv6.10.1.1//NONSGML v1.0//EN
CALSCALE:GREGORIAN
METHOD:PUBLISH
X-ORIGINAL-URL:https://www.jges.net
X-WR-CALDESC:日本消化器内視鏡学会 のイベント
REFRESH-INTERVAL;VALUE=DURATION:PT1H
X-Robots-Tag:noindex
X-PUBLISHED-TTL:PT1H
BEGIN:VTIMEZONE
TZID:Asia/Tokyo
BEGIN:STANDARD
TZOFFSETFROM:+0900
TZOFFSETTO:+0900
TZNAME:JST
DTSTART:20170101T000000
END:STANDARD
END:VTIMEZONE
BEGIN:VEVENT
DTSTART;VALUE=DATE:20170617
DTEND;VALUE=DATE:20170619
DTSTAMP:20260421T230121
CREATED:20170418T030315Z
LAST-MODIFIED:20170418T030315Z
UID:8155-1497657600-1497830399@www.jges.net
SUMMARY:第118 回　日本消化器内視鏡学会四国支部例会
DESCRIPTION:第118回　日本消化器内視鏡学会四国支部例会のご案内\nこの度の支部例会は第107回日本消化器病学会四国支部例会（会長 田村　智、田村クリニック胃腸科内科）との合同開催となります。 \n会長：國吉　宣俊（医療法人三和会 国吉病院） \n会期：2017年（平成29年）6月17日（土）～18日（日） \n会場：\n 高知市文化プラザかるぽーと\n 〒780-0832 高知県高知市九反田2番1号\n TEL：088-883-5011 \nホームページ：http://www.107jsge-118jges.com \n演題募集期間：2017年2月15日（水）～ 3月29日（水）正午 　4月12日（水）正午まで\n ※締切を延長しました。 \n募集内容： \n\n合同シンポジウム（公募）\n\n肝疾患の最新診療と今後の問題点\n内視鏡を用いた胆膵疾患の診断と治療\n\n\n合同ワークショップ\n 実地医家における内視鏡診療の現状と問題点―安全性と診断の向上を目指して―\n研修医・専修医優秀演題表彰セッション（公募）\n一般演題（公募）\n\nプログラム概要： \n特別講演　1日目　6月17日（土）\n 司会：國吉　宣俊（医療法人三和会 国吉病院）\n 講師：後藤田卓志（日本大学医学部 内科学系消化器肝臓内科学分野） \n 合同シンポジウム１　「肝疾患の最新診療と今後の問題点」\n 司会：栄枝　弘司（近森病院 消化器内科）\n 　　　高口　浩一（香川県立中央病院 肝臓内科） \n合同シンポジウム２　「内視鏡を用いた胆膵疾患の診断と治療」\n 司会：横田　智行（松山赤十字病院 肝胆膵センター）\n 　　　耕﨑　拓大（高知大学 医学部消化器内科学） \n合同ワークショップ「実地医家における内視鏡診療の現状と問題点―安全性と診断の向上を目指して―」\n 司会：松田　和也（松田内科医院）\n 　　　近森　文夫（国吉病院外科） \n ランチョンセミナー　2日目　6月18日（日）\n 司会：未定\n 講師：未定 \n会長講演\n 司会：高崎　元宏（たかさきクリニック）\n 演者：國吉　宣俊（医療法人三和会 国吉病院） \n事務局：\n 医療法人三和会 国吉病院　総務課\n 〒780-0901　高知県高知市上町1-3-4\n 担当：明神　満広\n TEL：088-875-0231　FAX：088-875-0233\n E-mail：management@kuniyoshi-hp.or.jp \n運営事務局：\n 株式会社歳時記屋\n 〒780-0072　高知県高知市杉井流19番2号\n 担当：小野　政明\n TEL：088-882-0333　FAX：088-882—0322\n E-mail：event@saijiki8.com
URL:https://www.jges.net/event/2017-8155
LOCATION:高知市文化プラザかるぽーと
CATEGORIES:四国支部
END:VEVENT
END:VCALENDAR